BEGIN:VCALENDAR
VERSION:2.0
PRODID:-//wp-events-plugin.com//7.2.3.1//EN
TZID:Europe/Rome
X-WR-TIMEZONE:Europe/Rome
BEGIN:VEVENT
UID:43910@lazioeventi.com
DTSTART;TZID=Europe/Rome:20260315T113000
DTEND;TZID=Europe/Rome:20260315T130000
DTSTAMP:20260303T184426Z
URL:https://lazioeventi.com/eventi/omogirando-la-mostra-franco-battiato-un
 altra-vita
SUMMARY:OmoGirando la mostra “Franco Battiato\, un’altra vita” - Roma
  - 15 Marzo 26 11:30
DESCRIPTION:Domenica 15 marzo a Roma abbiamo organizzato la visita guidata 
 LGBTQIA+ Friendly OmoGirando la mostra “Franco Battiato\, un’altra v
 ita”!\n\nUna visita alla mostra organizzata dal MAXXI e dedicata a Franc
 o Battiato in occasione del quinto anniversario della sua scomparsa.\n\nRa
 ccomandiamo di leggere accuratamente le norme di partecipazione nel sito.\
 n\nINFO E PRENOTAZIONI\n\nhttps://omogirando.jimdofree.com/le-prossime-usc
 ite/\n\n______\n\nCos’è OmoGirando?\n\nhttps://omogirando.jimdo.com/chi
 -siamo/
ATTACH;FMTTYPE=image/jpeg:https://lazioeventi.com/wp-content/uploads/2026/
 03/francobattiato-unaltravita-header.jpg
CATEGORIES:Arte e Cultura nel Lazio
LOCATION:Roma\, Via Leopardi\, Roma\, Roma\, Lazio\, Italia
GEO:41.8942;12.5017
X-APPLE-STRUCTURED-LOCATION;VALUE=URI;X-ADDRESS=Via Leopardi\, Roma\, Roma\
 , Lazio\, Italia;X-APPLE-RADIUS=100;X-TITLE=Roma:geo:41.8942,12.5017
END:VEVENT
BEGIN:VTIMEZONE
TZID:Europe/Rome
X-LIC-LOCATION:Europe/Rome
BEGIN:STANDARD
DTSTART:20251026T020000
TZOFFSETFROM:+0200
TZOFFSETTO:+0100
TZNAME:CET
END:STANDARD
END:VTIMEZONE
END:VCALENDAR