BEGIN:VCALENDAR
VERSION:2.0
PRODID:-//wp-events-plugin.com//7.2.3.1//EN
TZID:Europe/Rome
X-WR-TIMEZONE:Europe/Rome
BEGIN:VEVENT
UID:39979@lazioeventi.com
DTSTART;TZID=Europe/Rome:20241027T100000
DTEND;TZID=Europe/Rome:20241027T130000
DTSTAMP:20241002T164829Z
URL:https://lazioeventi.com/eventi/omogirando-le-mostre-fotografiche-del-m
 useo-di-roma-in-trastevere
SUMMARY:OmoGirando le mostre fotografiche del Museo di Roma in Trastevere -
  Roma - 27 Ottobre 24 10:00
DESCRIPTION:Domenica 27 ottobre a Roma abbiamo organizzato la visita guidat
 a LGBTQIA friendly OmoGirando le mostre fotografiche del Museo di Roma in 
 Trastevere!\n\nUn’occasione unica per visitare in contemporanea 3 mostre
  fotografiche. \nRoma ChilometroZero: 15 fotografi Leika raccontano la Rom
 a contemporanea nella sua complessità. Tra di essi GianOrso\, fotografo q
 ueer e amico di OmoGirando. \nIdentità\; così uguali\, così diversi: co
 ncorso dedicato a fotografi latinoamericani under 40\, tra cui il fotograf
 o queer Andrés Pérez.\n80’s Dark Rome: gli scatti di Dino Ignani dedic
 ati alla Roma punk e alternativa degli anni ottanta\, comprendente ritratt
 i di personaggi della storia del movimento LGBT+ come Porpora Marcasciano 
 o Dario Bellezza.\n\nRaccomandiamo di leggere accuratamente le norme di pa
 rtecipazione nel sito.\n\nINFO E PRENOTAZIONI\nhttps://omogirando.jimdo.co
 m/le-prossime-uscite/\n_______\nCos'è OmoGirando?\nhttps://omogirando.jim
 do.com/chi-siamo/
ATTACH;FMTTYPE=image/jpeg:https://lazioeventi.com/wp-content/uploads/2024/
 10/MRT_aMICi_Km-0_23-ottobre-2024.png_1050.jpg
CATEGORIES:Arte e Cultura nel Lazio
LOCATION:Roma\, Via Leopardi\, Roma\, Roma\, Lazio\, Italia
GEO:41.8942;12.5017
X-APPLE-STRUCTURED-LOCATION;VALUE=URI;X-ADDRESS=Via Leopardi\, Roma\, Roma\
 , Lazio\, Italia;X-APPLE-RADIUS=100;X-TITLE=Roma:geo:41.8942,12.5017
END:VEVENT
BEGIN:VTIMEZONE
TZID:Europe/Rome
X-LIC-LOCATION:Europe/Rome
BEGIN:STANDARD
DTSTART:20241027T020000
TZOFFSETFROM:+0200
TZOFFSETTO:+0100
TZNAME:CET
END:STANDARD
END:VTIMEZONE
END:VCALENDAR