BEGIN:VCALENDAR
VERSION:2.0
PRODID:-//wp-events-plugin.com//7.2.3.1//EN
TZID:Europe/Rome
X-WR-TIMEZONE:Europe/Rome
BEGIN:VEVENT
UID:37608@lazioeventi.com
DTSTART;TZID=Europe/Rome:20231119T093000
DTEND;TZID=Europe/Rome:20231119T170000
DTSTAMP:20231031T012108Z
URL:https://lazioeventi.com/eventi/omogirando-palestrina-2
SUMMARY:OmoGirando Palestrina - Palestrina - 19 Novembre 23 09:30
DESCRIPTION:Domenica 19 novembre nel basso Lazio ci sarà la visita guidata
  LGBTQIA+ friendly Omogirando Palestrina!\n\nUna visita di tutto il giorno
 \, col pranzo al sacco\, alla scoperta di Palestrina e delle sue meravigli
 e: il Santuario della Fortuna Primigenia e Palazzo Barberini\, gli scavi d
 el Foro\, le mura poligonali... e le tracce di molti personaggi famosi che
  sono passati di qui: Giovanni Pierluigi da Palestrina\, Vittoria Colonna\
 , Michelangelo... persino Thomas Mann!\n\nRaccomandiamo di leggere accurat
 amente le norme di partecipazione nel sito.\n\nINFO E PRENOTAZIONI\n\nhttp
 s://omogirando.jimdofree.com/le-prossime-uscite/\n\n______\n\nCos’è Omo
 Girando?\n\nhttps://omogirando.jimdo.com/chi-siamo/
ATTACH;FMTTYPE=image/jpeg:https://lazioeventi.com/wp-content/uploads/2023/
 10/34000468090_ecbac6d5b7_o.jpg
CATEGORIES:Arte e Cultura nel Lazio,Sport, Tempo Libero e Divertimento nel
 Lazio
LOCATION:Palestrina\, Comune\, Palestrina\, Roma\, Lazio\, Italia
GEO:41.8399;12.8889
X-APPLE-STRUCTURED-LOCATION;VALUE=URI;X-ADDRESS=Comune\, Palestrina\, Roma\
 , Lazio\, Italia;X-APPLE-RADIUS=100;X-TITLE=Palestrina:geo:41.8399,12.8889
END:VEVENT
BEGIN:VTIMEZONE
TZID:Europe/Rome
X-LIC-LOCATION:Europe/Rome
BEGIN:STANDARD
DTSTART:20231029T020000
TZOFFSETFROM:+0200
TZOFFSETTO:+0100
TZNAME:CET
END:STANDARD
END:VTIMEZONE
END:VCALENDAR