BEGIN:VCALENDAR
VERSION:2.0
PRODID:-//wp-events-plugin.com//7.2.3.1//EN
TZID:Europe/Rome
X-WR-TIMEZONE:Europe/Rome
BEGIN:VEVENT
UID:28177@lazioeventi.com
DTSTART;TZID=Europe/Rome:20210320T160000
DTEND;TZID=Europe/Rome:20210320T183000
DTSTAMP:20210301T151558Z
URL:https://lazioeventi.com/eventi/omogirando-tra-i-vicoli-del-rione-ponte
SUMMARY:OmoGirando tra i vicoli del Rione Ponte - Roma - 20 Marzo 21 16:00
DESCRIPTION:Sabato 20 marzo a Roma abbiamo organizzato la visita guidata ga
 y friendly OmoGirando tra i vicoli del Rione Ponte!\n\nIn epoca romana\, l
 a parte settentrionale del Campo Marzio era considerata periferica\, tanto
  da essere costellata da necropoli e grandi mausolei. Tuttavia nel medioev
 o\, un’anonima tomba di un pescatore straniero diventò talmente importa
 nte da diventare polo di attrazione dell’intera città. Il risultato? In
 torno al ponte fatto costruire da Adriano si addensò nel corso dei secoli
  un agglomerato urbano tentacolare ricco di storie e di curiosità. Si tra
 tta del Rione Ponte\, che noi scopriremo assieme in un itinerario a zigzag
  da Sant’Agostino a Ponte Sant’Angelo!\n\nLa visita verrà condotta in
  ottemperanza delle norme del DPCM 15 ottobre 2020 e successivi Decreti.\n
 \nRaccomandiamo di leggere accuratamente le norme di partecipazione nel si
 to.\n\nINFO E PRENOTAZIONI\n\nhttps://omogirando.jimdofree.com/le-prossime
 -uscite/\n\n______\n\nCos’è OmoGirando?\n\nhttps://omogirando.jimdo.com
 /chi-siamo/
ATTACH;FMTTYPE=image/jpeg:https://lazioeventi.com/wp-content/uploads/2021/
 03/fontanella-del-leone.jpg
CATEGORIES:Arte e Cultura nel Lazio
LOCATION:Roma\, Via Leopardi\, Roma\, Roma\, Lazio\, Italia
GEO:41.8942;12.5017
X-APPLE-STRUCTURED-LOCATION;VALUE=URI;X-ADDRESS=Via Leopardi\, Roma\, Roma\
 , Lazio\, Italia;X-APPLE-RADIUS=100;X-TITLE=Roma:geo:41.8942,12.5017
END:VEVENT
BEGIN:VTIMEZONE
TZID:Europe/Rome
X-LIC-LOCATION:Europe/Rome
BEGIN:STANDARD
DTSTART:20201025T020000
TZOFFSETFROM:+0200
TZOFFSETTO:+0100
TZNAME:CET
END:STANDARD
END:VTIMEZONE
END:VCALENDAR