BEGIN:VCALENDAR
VERSION:2.0
PRODID:-//wp-events-plugin.com//7.2.3.1//EN
TZID:Europe/Rome
X-WR-TIMEZONE:Europe/Rome
BEGIN:VEVENT
UID:30733@lazioeventi.com
DTSTART;TZID=Europe/Rome:20220522T100000
DTEND;TZID=Europe/Rome:20220522T130000
DTSTAMP:20220430T073459Z
URL:https://lazioeventi.com/eventi/omogirando-trastevere
SUMMARY:OmoGirando Trastevere - Roma - 22 Maggio 22 10:00
DESCRIPTION:Domenica 22 maggio a Roma ci sarà la visita guidata gay friend
 ly OmoGirando Trastevere!\n\nTuttɜ o quasi conoscono Trastevere… Ma sia
 mo davvero sicurɜ di conoscere veramente questo antico rione romano? Vi p
 roponiamo una lunga passeggiata tra i vicoli\, tra luoghi stranoti e angol
 i inediti\, raccontandone la storia\, spesso infarcita di aneddoti e stran
 e leggende!\n\nRaccomandiamo di leggere accuratamente le norme di partecip
 azione nel sito.\n\nINFO E PRENOTAZIONI\n\nhttps://omogirando.jimdofree.co
 m/le-prossime-uscite/\n\n______\n\nCos’è OmoGirando?\n\nhttps://omogira
 ndo.jimdo.com/chi-siamo/
ATTACH;FMTTYPE=image/jpeg:https://lazioeventi.com/wp-content/uploads/2022/
 04/OmoGirando-Trastevere-2.jpg
CATEGORIES:Arte e Cultura nel Lazio
LOCATION:Roma\, Via Leopardi\, Roma\, Roma\, Lazio\, Italia
GEO:41.8942;12.5017
X-APPLE-STRUCTURED-LOCATION;VALUE=URI;X-ADDRESS=Via Leopardi\, Roma\, Roma\
 , Lazio\, Italia;X-APPLE-RADIUS=100;X-TITLE=Roma:geo:41.8942,12.5017
END:VEVENT
BEGIN:VTIMEZONE
TZID:Europe/Rome
X-LIC-LOCATION:Europe/Rome
BEGIN:DAYLIGHT
DTSTART:20220327T030000
TZOFFSETFROM:+0100
TZOFFSETTO:+0200
TZNAME:CEST
END:DAYLIGHT
END:VTIMEZONE
END:VCALENDAR