BEGIN:VCALENDAR
VERSION:2.0
PRODID:-//wp-events-plugin.com//7.2.3.1//EN
TZID:Europe/Rome
X-WR-TIMEZONE:Europe/Rome
BEGIN:VEVENT
UID:29957@lazioeventi.com
DTSTART;TZID=Europe/Rome:20220317T090000
DTEND;TZID=Europe/Rome:20220415T190000
DTSTAMP:20220303T120436Z
URL:https://lazioeventi.com/eventi/on-clothing-the-visible-self
SUMMARY:On Clothing. The Visible Self - Roma - 17 Marzo 22 09:00
DESCRIPTION:I codici culturali entro i quali definiamo noi stessi attravers
 o la nostra immagine\, generano quel linguaggio utilizzato per la realizza
 zione di scambi interindividuali definibili "relations in public" (Goffman
  E.). Ogni essere umano elabora un atteggiamento verso la rappresentazione
  di sé\, questo rappresentarsi si rivolge ad ambiti e linguaggi diversi\,
  come il modo di vestire.\n\nEstensione dell'io\, espressione del nostro "
 modus vivendi"\, l'abito è un prodotto culturale che riguarda la nostra i
 dentità\, legato alla continuità storico-culturale e personale\, attrave
 rso la quale è possibile affermare la propria individualità\, comunicare
  e informare gli altri su sé stessi.\n\nLa mostra espone una selezione di
  fotografie legate al tema dell’abbigliamento come “seconda pelle”\,
  in grado di parlare di noi\, del nostro corpo e della nostra persona. Ess
 a si propone come una galleria di forme\, colori e messaggi\, ma è al con
 tempo una matrioska\, una riflessione meta-artistica.\n\nLo spazio esposit
 ivo si popola di immagini artistiche ma\, a sua volta\, accoglie anche un 
 contenuto che affronta tematiche legate alla visualità\, all’armonia (o
  disarmonia) cromatica e alla capacità che il nostro corpo ha di elevarsi
  a opera d’arte per intervento di e grazie alla moda.\n\nOn Clothing. Th
 e Visible Self\nMostra Collettiva internazionale Fotografica\nPresso Mille
 piani\, via N. Odero\,13 Roma\nIngresso Libero\n-\nDal 17 Marzo - al 15 Ap
 rile '22\, visitabile dal lunedì al venerdì dalle ore 9:00 alle ore 19:0
 0\nPrenotazione obbligatoria. email: info@loosenart.com / sms: +39 3474962
 253\nEvento curato da LoosenArt\nwww.loosenart.com\n-\nAccesso consentito 
 ai possessori di green pass / esito test molecolare (-)\nInfo predisposizi
 oni prevenzione covid19
ATTACH;FMTTYPE=image/jpeg:https://lazioeventi.com/wp-content/uploads/2022/
 03/on-cloting.jpg
CATEGORIES:Arte e Cultura nel Lazio
LOCATION:Roma\, Via Leopardi\, Roma\, Roma\, Lazio\, Italia
GEO:41.8942;12.5017
X-APPLE-STRUCTURED-LOCATION;VALUE=URI;X-ADDRESS=Via Leopardi\, Roma\, Roma\
 , Lazio\, Italia;X-APPLE-RADIUS=100;X-TITLE=Roma:geo:41.8942,12.5017
END:VEVENT
BEGIN:VTIMEZONE
TZID:Europe/Rome
X-LIC-LOCATION:Europe/Rome
BEGIN:STANDARD
DTSTART:20211031T020000
TZOFFSETFROM:+0200
TZOFFSETTO:+0100
TZNAME:CET
END:STANDARD
BEGIN:DAYLIGHT
DTSTART:20220327T030000
TZOFFSETFROM:+0100
TZOFFSETTO:+0200
TZNAME:CEST
END:DAYLIGHT
END:VTIMEZONE
END:VCALENDAR