BEGIN:VCALENDAR
VERSION:2.0
PRODID:-//wp-events-plugin.com//7.2.3.1//EN
TZID:Europe/Rome
X-WR-TIMEZONE:Europe/Rome
BEGIN:VEVENT
UID:38037@lazioeventi.com
DTSTART;TZID=Europe/Rome:20231215T180000
DTEND;TZID=Europe/Rome:20231221T190000
DTSTAMP:20231206T094116Z
URL:https://lazioeventi.com/eventi/one-photo-for-msf
SUMMARY:One Photo for MSF - Roma - 15 Dicembre 23 18:00
DESCRIPTION:L’Associazione culturale WSP Photography inaugurerà venerdì
  15 dicembre dalle ore 19.00\, presso la sede in Via Costanzo Cloro 58 a R
 oma\, “One Photo for MSF”\, una mostra fotografica con vendita di bene
 ficenza volta a sostenere il Fondo Emergenze di Medici Senza Frontiere (MS
 F). L’ingresso è gratuito e aperto a tutti.\n\nMSF è un'organizzazione
  medico – umanitaria indipendente fondata nel 1971. Oggi fornisce soccor
 so in oltre 70 paesi\, a popolazioni la cui sopravvivenza è minacciata da
  conflitti armati\, violenze\, epidemie\, disastri naturali o esclusione d
 all’assistenza sanitaria\, ovunque ce ne sia bisogno\, senza alcun tipo 
 di discriminazione. \n\nL’indipendenza dell’organizzazione è garantit
 a dalle donazioni di privati\, che in Italia rappresentano il 100% dei fon
 di raccolti.\n\nTutto il ricavato della vendita delle fotografie in mostra
 \, gentilmente donate dai fotografi che hanno aderito all’iniziativa\, s
 arà destinato a sostenere il Fondo Emergenze di MSF che\, in scenari di g
 uerra o in caso di disastri naturali\, permette alle équipe mediche di en
 trare in azione in modo tempestivo.\n\n“One Photo for MSF” nasce da un
 ’idea di WSP Photography con l’intento di creare un momento di condivi
 sione e conoscenza ma anche un’occasione per dimostrare quanto la fotogr
 afia\, con la sua potente forza comunicativa\, possa giocare un ruolo impo
 rtante nell’avvicinare e sensibilizzare le persone a sostegno di una cau
 sa per cui tutti possiamo impegnarci\, anche con un piccolo gesto.\n\nTant
 i i fotografi e le fotografe che hanno aderito al progetto impegnandosi in
  prima persona mettendo a disposizione le loro opere. Autori da sempre imp
 egnati nel raccontare diritti umani e tematiche sociali e nel dimostrare i
 l valore che la fotografia può avere nel portare alla luce storie nascost
 e e dimenticate.\n\nSaranno in mostra e in vendita le fotografie di:\nAdri
 enne Surprenant\, Alessandro Grassani\, Alessandro Penso\, Andrea Olga Man
 tovani\, Angelo Turetta\, Annalisa Natali Murri\, Antonio Faccilongo\, Bar
 bara Di Maio\, Carlo Gianferro\, Catalina Martin-Chico\, Cinzia Canneri\, 
 Claudio Palmisano\, Daniela Sala\, Daniela Silvestri\, Daniele Volpe\, Dar
 io De Dominicis\, Donna Ferrato\, Fausto Podavini\, Francesca Leonardi\, F
 rancesca Volpi\, Francesco Faraci\, Francesco Pistilli\, Fulvio Bugani\, G
 iancarlo Ceraudo\, Giorgio Palmera\, Giovanni Capriotti\, Giovanni Cocco\,
  Giovanni Marrozzini\, Giuseppe Nucci\, Karl Mancini\, Laetitia Vançon\, 
 Lina Pallotta\, Lucia Perrotta\, Mads Nissen\, Marina Berardi\, Mario Spad
 a\, Martina Bacigalupo\, Martina Cirese\, Massimiliano Tempesta\, Massimo 
 Berruti\, Maurizio Di Pietro\, Meeri Koutaniemi\, Mirko Viglino\, Nanna He
 itmann\, Natalya Saprunova\, Nicolò Filippo Rosso\, Pablo Ernesto Piovano
 \, Paolo Verzone\, Pietro Masturzo\, Raffaele Petralla\, Renaud Philippe\,
  Simona Pampallona\, Stefano De Luigi\, Stefano Schirato\, Stephanie Gengo
 tti\, Toby Binder\, Tony Gentile\, Yarin Del Vecchio.\n\nLa mostra sarà a
 perta dal 15 al 21 dicembre 2023 e visitabile dal lunedì al venerdì dall
 e 18:00 alle 19:00 e per tutta la sua durata sarà possibile acquistare le
  fotografie esposte e l’intero ricavato sarà destinato a sostenere il F
 ondo Emergenze di MSF.
ATTACH;FMTTYPE=image/jpeg:https://lazioeventi.com/wp-content/uploads/2023/
 12/locandina-MSF_Nomi.jpg
CATEGORIES:Varie
LOCATION:Roma\, Via Leopardi\, Roma\, Roma\, Lazio\, Italia
GEO:41.8942;12.5017
X-APPLE-STRUCTURED-LOCATION;VALUE=URI;X-ADDRESS=Via Leopardi\, Roma\, Roma\
 , Lazio\, Italia;X-APPLE-RADIUS=100;X-TITLE=Roma:geo:41.8942,12.5017
END:VEVENT
BEGIN:VTIMEZONE
TZID:Europe/Rome
X-LIC-LOCATION:Europe/Rome
BEGIN:STANDARD
DTSTART:20231029T020000
TZOFFSETFROM:+0200
TZOFFSETTO:+0100
TZNAME:CET
END:STANDARD
END:VTIMEZONE
END:VCALENDAR