BEGIN:VCALENDAR
VERSION:2.0
PRODID:-//wp-events-plugin.com//7.2.3.1//EN
TZID:Europe/Rome
X-WR-TIMEZONE:Europe/Rome
BEGIN:VEVENT
UID:37551@lazioeventi.com
DTSTART;TZID=Europe/Rome:20231119T090000
DTEND;TZID=Europe/Rome:20231119T180000
DTSTAMP:20231026T102937Z
URL:https://lazioeventi.com/eventi/open-day-tao-academy
SUMMARY:OPEN Day TAO Academy - Roma - 19 Novembre 23 09:00
DESCRIPTION:Open day TaoAcademy Roma - 19 novembre  2023\n\nTaoAcademy Rom
 a è una scuola di medicina cinese presente in Italia anche a Milano. Scuo
 la di eccellenza\, con passaggio di sapere diretto\, dove gli allievi prov
 ano e praticano in prima persona\, grazie a programmi aggiornati\, metodol
 ogie all’avanguardia e un approccio didattico che mette l’allievo e il
  suo successo formativo al centro del progetto.\n\n\nLa scuola propone cor
 si pluriennali di formazione nelle varie discipline della medicina cinese\
 , oltre a corsi tematici e workshop che offrono un ampio spettro di lezion
 i di base e di approfondimento.\n\nL’offerta didattica si snoda infatti 
 tra corsi quali il corso di Tuina a Roma\, Consulente Olistico in medicina
  cinese\, dietetica cinese\, cromoterapia\, accessibili a tutti coloro che
  vogliano sperimentare le possibilità lavorative offerte dalla medicina c
 inese.
ATTACH;FMTTYPE=image/jpeg:https://lazioeventi.com/wp-content/uploads/2023/
 10/open-day-Eventbrite-Event-Cover-2160×1080-1.jpg
CATEGORIES:Varie
LOCATION:Roma\, Via Leopardi\, Roma\, Roma\, Lazio\, Italia
GEO:41.8942;12.5017
X-APPLE-STRUCTURED-LOCATION;VALUE=URI;X-ADDRESS=Via Leopardi\, Roma\, Roma\
 , Lazio\, Italia;X-APPLE-RADIUS=100;X-TITLE=Roma:geo:41.8942,12.5017
END:VEVENT
BEGIN:VTIMEZONE
TZID:Europe/Rome
X-LIC-LOCATION:Europe/Rome
BEGIN:STANDARD
DTSTART:20231029T020000
TZOFFSETFROM:+0200
TZOFFSETTO:+0100
TZNAME:CET
END:STANDARD
END:VTIMEZONE
END:VCALENDAR