BEGIN:VCALENDAR
VERSION:2.0
PRODID:-//wp-events-plugin.com//7.2.3.1//EN
TZID:Europe/Rome
X-WR-TIMEZONE:Europe/Rome
BEGIN:VEVENT
UID:35488@lazioeventi.com
DTSTART;TZID=Europe/Rome;VALUE=DATE:20230520
DTEND;TZID=Europe/Rome;VALUE=DATE:20230529
DTSTAMP:20230517T085110Z
URL:https://lazioeventi.com/eventi/open-house-roma
SUMMARY:Open House Roma - Roma - 20 Maggio 23 00:00
DESCRIPTION:Anche nel 2023 torna Open House Roma: oltre 200 luoghi insoliti
  e spesso inaccessibili della Capitale saranno visitabili gratuitamente.\n
 \nDal 20 al 28 maggio oltre 250 luoghi insoliti e spesso inaccessibili di 
 Roma saranno aperti gratuitamente attraverso visite guidate\, tour ed even
 ti.\nPalazzi storici\, case private\, edifici contemporanei e siti archeol
 ogici: è la grande festa dell'architettura e della città che torna ogni 
 anno a maggio grazie a Open House Roma.\n\nL’iniziativa fa parte del net
 work internazionale Open House Worldwide\, nato a Londra nel 1992 dall’i
 dea di un gruppo di architetti e comunicatori orientati all’innovazione 
 socio-culturale\, con il supporto di esperti e professionisti nel settore 
 dei beni culturali\, quali dottori di ricerca\, architetti\, operatori cul
 turali\, artisti e comunicatori digitali. Open House Roma è un’opportun
 ità unica per (ri)scoprire la città e la sua architettura\, celebrando i
 l design e l’architettura nella capitale italiana.\nI luoghi visitabili 
 durante l’iniziativa OHR 2023\n\nGli edifici e i luoghi aperti al pubbli
 co spaziano da quelli iconici e storici come l’Accademia d’Egitto\, l
 ’Accademia di Danimarca\, l’Accademia Tedesca Roma Villa Massimo\, il 
 Ministero degli Affari Esteri e della Cooperazione Internazionale\, Palazz
 o delle Finanze e l’Organizzazione delle Nazioni Unite per l’alimentaz
 ione e l’agricoltura (FAO)\, a siti di interesse scientifico-culturale c
 ome l’Agenzia Spaziale Italiana ASI\, l’American Academy in Rome\, NAB
 A – Nuova Accademia di Belle Arti\, il Nuovo Politecnico\, l’Istituto 
 Superiore Antincendi e la John Cabot University.\n\nNon mancano anche le l
 ocation più inusuali\, come il Collegio di Sant’Isidoro a Capo le Case 
 e il Palazzo e la Biblioteca Storica Nazionale dell’Agricoltura\, e le v
 ere e proprie gemme preziose come il Casino del Graziano in Villa Borghese
 \, la Casa dei Crescenzi e il castello idraulico di Fontana di Trevi e del
  Fontanone dell’Acqua Paola.\n\nScopri la lista completa sul sito uffici
 ale di Open House Roma 2023\, raggiungibile all’indirizzo www.openhouser
 oma.org
ATTACH;FMTTYPE=image/jpeg:https://lazioeventi.com/wp-content/uploads/2023/
 05/open-house-roma.jpg
CATEGORIES:Arte e Cultura nel Lazio
LOCATION:Roma\, Via Leopardi\, Roma\, Roma\, Lazio\, Italia
GEO:41.8942;12.5017
X-APPLE-STRUCTURED-LOCATION;VALUE=URI;X-ADDRESS=Via Leopardi\, Roma\, Roma\
 , Lazio\, Italia;X-APPLE-RADIUS=100;X-TITLE=Roma:geo:41.8942,12.5017
END:VEVENT
BEGIN:VTIMEZONE
TZID:Europe/Rome
X-LIC-LOCATION:Europe/Rome
BEGIN:DAYLIGHT
DTSTART:20230326T030000
TZOFFSETFROM:+0100
TZOFFSETTO:+0200
TZNAME:CEST
END:DAYLIGHT
END:VTIMEZONE
END:VCALENDAR