BEGIN:VCALENDAR
VERSION:2.0
PRODID:-//wp-events-plugin.com//7.2.3.1//EN
TZID:Europe/Rome
X-WR-TIMEZONE:Europe/Rome
BEGIN:VEVENT
UID:43228@lazioeventi.com
DTSTART;TZID=Europe/Rome:20251205T100000
DTEND;TZID=Europe/Rome:20251218T190000
DTSTAMP:20251128T105332Z
URL:https://lazioeventi.com/eventi/opening-rome-international-art-fair-202
 5-17th-edition
SUMMARY:OPENING ROME INTERNATIONAL ART FAIR 2025 – 17TH EDITION - Roma - 
 5 Dicembre 25 10:00
DESCRIPTION:ROME INTERNATIONAL ART FAIR 2025 – 17ª EDIZIONE5 – 18 Dice
 mbre\, 2025Medina Art Gallery\, Roma\nITSLIQUID Group è lieta di annuncia
 re l’inaugurazione della 17ª edizione di ROME INTERNATIONAL ART FAIR 20
 25\, mostra internazionale dedicata alla fotografia\, pittura\, video arte
 \, installazione/scultura e performance. L’esposizione aprirà al pubbli
 co il 5 dicembre 2025 alle ore 18:00 presso la Medina Art Gallery di Roma 
 e resterà visitabile fino al 18 dicembre 2025.\nROME INTERNATIONAL ART FA
 IR 2025 analizza il rapporto tra corpo e spazio e il processo di ibridazio
 ne tra identità e contesti culturali\, fisici\, sociali e urbani nella co
 ntemporaneità\, attraverso due sezioni principali: MIXING IDENTITIES e FU
 TURE LANDSCAPES.\nMIXING IDENTITIES indaga le parti nascoste delle nostre 
 identità attraverso un’esperienza immersiva all’interno dell’affasc
 inante universo dei complessi labirinti della coscienza. Il corpo umano è
  un sistema in continuo mutamento che ci connette ad altri corpi e spazi p
 er percepire la realtà che ci circonda\; un potente sistema di comunicazi
 one dotato di un linguaggio proprio e di infinite possibilità espressive.
 \nFUTURE LANDSCAPES si configurano come paesaggi astratti\, infiniti e con
 cettuali\, associati a un senso di libertà e di estensione illimitata. Pr
 incipalmente esperiti a livello mentale\, gli spazi ridefiniscono i loro c
 onfini e le loro strutture\, trasformando le superfici in un flusso aperto
  di idee pure. Questa sezione si concentra sul concetto di limite e sulle 
 strutture tra corpo\, mente e anima\, tra identità umana e città\, tra s
 pazio e suolo.\nAttraverso pratiche artistiche eterogenee\, oltre quaranta
  artisti selezionati provenienti da tutto il mondo incarnano i temi centra
 li della ROME INTERNATIONAL ART FAIR 2025\, offrendo ciascuno una prospett
 iva unica sull’evoluzione del rapporto tra corpo\, identità e spazio.\n
 Dalla Turchia\, Cenk Akaltun attinge alla sua formazione nella serigrafia 
 e nel graphic design per sviluppare un linguaggio pittorico organico e pro
 cessuale\, ispirato al simbolismo spirituale dell’acqua. La sua fluidit
 à\, la fusione cromatica e il duplice ruolo vitale e distruttivo generano
  composizioni che si comportano come organismi viventi\, evocando ecosiste
 mi che spaziano dal microscopico alla scala urbana. Ogni dipinto si config
 ura come una struttura spirituale unitaria\, in cui i singoli elementi acq
 uisiscono significato solo attraverso la loro connessione con il tutto.\nC
 on un percorso simile ma risultati differenti\, Steffen Wagner\, artista e
  graphic designer con base a Berlino\, fonde la tipografia con un’esteti
 ca minimalista raffinata. Radicata nel disegno\, la sua pratica si è evol
 uta in una profonda indagine sulle forme delle lettere e sul loro potenzia
 le espressivo. Attraverso poster\, schizzi e sistemi tipografici speriment
 ali\, Wagner ricerca chiarezza\, ritmo e impatto emotivo\, trattando il de
 sign visivo come uno strumento di dialogo ed empowerment\, affermando la c
 reatività come forza senza confini.\nLa pratica fotografica di Xu Kangyi 
 nasce come un modo istintivo per preservare momenti fugaci carichi di emoz
 ione silenziosa: muovendosi tra Macao e Boston\, l’artista predilige sil
 houette\, luce naturale e composizioni delicate in cui la quiete rivela la
  vulnerabilità umana. Spesso ritraendo figure solitarie o sottili interaz
 ioni tra sconosciuti\, le sue immagini esplorano l’identità come entit
 à fluida\, modellata dalla memoria e dal luogo. Piuttosto che isolare i s
 oggetti\, li integra con ombre\, riflessi e spazi architettonici\, invitan
 do lo spettatore a ritrovare echi delle proprie esperienze.\nGuidata dalla
  convinzione che tutto nella vita sia interconnesso\, Mirela Lesneanu inda
 ga i parallelismi tra corpi umani e strutture organiche attraverso collage
 \, incisione\, inchiostro\, acrilico e fotografia\, riflettendo sul simbol
 ismo arcaico della natura\, sui cicli di morte e rinascita e sulla credenz
 a nella sensibilità degli alberi. Le sue composizioni stratificate conduc
 ono il pubblico oltre l’apparenza\, riscoprendo un legame primordiale co
 n il mondo naturale e trasformando la riflessione personale in una meditaz
 ione universale sul senso di appartenenza.\nIn questo contesto\, Roma si c
 onfigura ancora una volta come interlocutore attivo tra le sue sale affres
 cate\, ricche di secoli di memoria culturale\, amplificando il potere narr
 ativo delle opere contemporanee in mostra. In questa cornice\, la pratica 
 di Artur Mirzoyan risuona con particolare intensità\, coniugando la rigor
 osa tecnica accademica con l’immediatezza di un fotogramma cinematografi
 co\, attraverso cui rielabora motivi simbolici dell’arte classica europe
 a. Mediante silhouette precise\, contorni morbidi e una palette cromatica 
 profonda e articolata\, spesso arricchita da dorature\, le sue composizion
 i svelano il dramma racchiuso in un singolo istante\, sospeso tra moviment
 o e immobilità\, espandendo il linguaggio della pittura classica e aprend
 o nuove vie alla narrazione visiva.\nINAUGURAZIONE5 dicembre 2025 | ore 18
 :00Medina Art Gallery | Roma\, ItaliaVia Angelo Poliziano 32-34\, 4-6Orari
  di apertura | Lunedì – Domenica. 10:00 – 13:00 e 15:00 – 19:00
ATTACH;FMTTYPE=image/jpeg:https://lazioeventi.com/wp-content/uploads/2025/
 11/riaf17-25-001.jpg
CATEGORIES:Arte e Cultura nel Lazio
LOCATION:Roma\, Via Leopardi\, Roma\, Roma\, Lazio\, Italia
GEO:41.8942;12.5017
X-APPLE-STRUCTURED-LOCATION;VALUE=URI;X-ADDRESS=Via Leopardi\, Roma\, Roma\
 , Lazio\, Italia;X-APPLE-RADIUS=100;X-TITLE=Roma:geo:41.8942,12.5017
END:VEVENT
BEGIN:VTIMEZONE
TZID:Europe/Rome
X-LIC-LOCATION:Europe/Rome
BEGIN:STANDARD
DTSTART:20251026T020000
TZOFFSETFROM:+0200
TZOFFSETTO:+0100
TZNAME:CET
END:STANDARD
END:VTIMEZONE
END:VCALENDAR