BEGIN:VCALENDAR
VERSION:2.0
PRODID:-//wp-events-plugin.com//7.2.3.1//EN
TZID:Europe/Rome
X-WR-TIMEZONE:Europe/Rome
BEGIN:VEVENT
UID:28547@lazioeventi.com
DTSTART;TZID=Europe/Rome;VALUE=DATE:20210926
DTEND;TZID=Europe/Rome;VALUE=DATE:20211011
DTSTAMP:20210922T095130Z
URL:https://lazioeventi.com/eventi/opere-informali
SUMMARY:Opere Informali - Boville Ernica - 26 Settembre 21 00:00
DESCRIPTION:\n\n\n\n\n\n“Opere informali”. È questo il titolo della mo
 stra di Giampaolo Cataudella che verrà allestita nella chiesa di San Fran
 cesco dove le opere rimarranno esposte fino al 10 ottobre. L'iniziativa na
 sce dalla collaborazione fra Provincia Creativa e Comune di Boville Ernica
 .\n\n\n\nDomenica 26 settembre l’esposizione verrà inaugurata a partire
  dalle 18:30 con il concerto musicale Duo Jazz: Alessandro Del Signore con
 trabbasso\, Gloria Trapani voce. E vedrà la direzione artistica di Katia 
 Sacchetti. Alle 19 Vernissage: interverranno il sindaco Enzo Perciballi\, 
 la consigliera comunale con delega al Turismo Martina Bocconi\, il curator
 e Alfio Borghese e il vicepresidente della Provincia di Frosinone Luigi Va
 cana.\n\n\n\n\n\nLa presentazione della mostra verrà curata dalla consigl
 iera Bocconi e dal maestro Alfio Borghese\, e sarà introdotta da una corn
 ice musicale di grande livello\, con la voce straordinaria di Gloria Trapa
 ni e il contrabbasso del maestro Alessandro Del Signore con la direzione a
 rtistica di Katia Sacchetti.\n\n\n\n\n\nCHI È L’AUTORE: pittore e scult
 ore autodidatta di origini siciliane\, Cataudella nasce nel comune di Noto
  in Sicilia\, a 18 anni si trasferisce a Torino dove si laurea in ingegner
 ia aerospaziale. Attualmente risiede nel piccolo borgo di Sant'Elia Fiumer
 apido\, in provincia di Frosinone\, dove ha anche il suo atelier. Le sue o
 pere nascono come risultato finale di un processo creativo non programmato
 \, e costantemente sperimentale\, che trae ispirazione dai cosmi sociali d
 elle città contemporanee\, focalizzato sulla texture\, sui colori e sulle
  forme astratte\, con utilizzo di materiali “poveri”. Il suo lavoro ar
 tistico è collocabile nel filone pittorico dell'arte informale polimateri
 ca.\n\n\n\nL’appuntamento è allora per domenica 26 settembre alle 18:30
  presso la chiesa di San Francesco.\n\n\n\n\n\n\n\n\n\n\n\n\n\n\n\n\n\n\n\
 n\n\n
ATTACH;FMTTYPE=image/jpeg:https://lazioeventi.com/wp-content/uploads/2021/
 09/opere-informali.jpg
CATEGORIES:Arte e Cultura nel Lazio
LOCATION:Boville Ernica\, Comune\, Boville Ernica\, Frosinone\, Lazio\, Ita
 lia
GEO:41.643;13.4708
X-APPLE-STRUCTURED-LOCATION;VALUE=URI;X-ADDRESS=Comune\, Boville Ernica\, F
 rosinone\, Lazio\, Italia;X-APPLE-RADIUS=100;X-TITLE=Boville Ernica:geo:41
 .643,13.4708
END:VEVENT
BEGIN:VTIMEZONE
TZID:Europe/Rome
X-LIC-LOCATION:Europe/Rome
BEGIN:DAYLIGHT
DTSTART:20210328T030000
TZOFFSETFROM:+0100
TZOFFSETTO:+0200
TZNAME:CEST
END:DAYLIGHT
END:VTIMEZONE
END:VCALENDAR