BEGIN:VCALENDAR
VERSION:2.0
PRODID:-//wp-events-plugin.com//7.2.3.1//EN
TZID:Europe/Rome
X-WR-TIMEZONE:Europe/Rome
BEGIN:VEVENT
UID:30913@lazioeventi.com
DTSTART;TZID=Europe/Rome:20220608T210000
DTEND;TZID=Europe/Rome:20220608T223000
DTSTAMP:20220512T044822Z
URL:https://lazioeventi.com/eventi/organizzando-mazzanti
SUMMARY:Organizzando - Roma - 8 Giugno 22 21:00
DESCRIPTION:Ritorna Organizzando\, rassegna di concerti d'organo giunta all
 a sua quarta edizione che si compone di tre concerti per organo nella sede
  della Chiesa Evangelica Luterana di Roma\, in via Sicilia 70.\n\nINGRESSO
  GRATUITO\n\nMercoledì 18 maggio 2022 ore 21.00\nFrancesco Finotti\nMusic
 he di César Franck\, Johann Sebastian Bach\n\nMercoledì 8 giugno 2022 or
 e 21.00\nLivia Mazzanti\nMélodies nomades\, harmonies migrantes - Ricordo
  di Daniel Matrone\nMusiche di Matrone\, Gesualdo\, Kagel\, Della Ciaja\, 
 Bussotti\, Bach\, Castelnuovo-Tedesco\, Scarlatti\n\nMercoledì 15 giugno 
 2022 ore 21.00\nGiovanni Michelini - Il mio debutto a Roma\nReticoli da Gi
 rolamo Frescobaldi ad Aldo Clementi\nMusiche di Girolamo Frescobaldi\, Dom
 enico Scarlatti\, Aldo Clementi\, Franco Donatoni
ATTACH;FMTTYPE=image/jpeg:https://lazioeventi.com/wp-content/uploads/2022/
 05/organizzando.png
CATEGORIES:Musica, Spettacoli e Danza nel Lazio
LOCATION:Roma\, Via Leopardi\, Roma\, Roma\, Lazio\, Italia
GEO:41.8942;12.5017
X-APPLE-STRUCTURED-LOCATION;VALUE=URI;X-ADDRESS=Via Leopardi\, Roma\, Roma\
 , Lazio\, Italia;X-APPLE-RADIUS=100;X-TITLE=Roma:geo:41.8942,12.5017
END:VEVENT
BEGIN:VTIMEZONE
TZID:Europe/Rome
X-LIC-LOCATION:Europe/Rome
BEGIN:DAYLIGHT
DTSTART:20220327T030000
TZOFFSETFROM:+0100
TZOFFSETTO:+0200
TZNAME:CEST
END:DAYLIGHT
END:VTIMEZONE
END:VCALENDAR