BEGIN:VCALENDAR
VERSION:2.0
PRODID:-//wp-events-plugin.com//7.2.3.1//EN
TZID:Europe/Rome
X-WR-TIMEZONE:Europe/Rome
BEGIN:VEVENT
UID:34807@lazioeventi.com
DTSTART;TZID=Europe/Rome:20230326T173000
DTEND;TZID=Europe/Rome:20230326T190000
DTSTAMP:20230323T161051Z
URL:https://lazioeventi.com/eventi/orsorella-e-gli-altri
SUMMARY:Orsorella e gli altri - Latera - 26 Marzo 23 17:30
DESCRIPTION:Domenica 26 marzo alle ore 17.30\, nei locali di Palazzo Farnes
 e\, sede del Comune di Latera\, verrà presentata la seconda edizione arri
 cchita del volume Orsorella e gli altri. Fiabe lateresi raccontate da Piet
 ro Moretti\, a cura di Marco D'Aureli con illustrazioni di Alfonso Prota p
 er i tipi di Davide Ghaleb Editore. \n\nL'iniziativa è promossa dal Museo
  della terra di Latera in collaborazione con l'associazione Comunità narr
 anti. Ad animare il patrimonio delle storie lasciate da Pietro Moretti ci 
 penseranno Alfonso Prota e il musicista Carlo Sanetti\, che daranno vita a
 d una performance narrativa.\n\nA dieci anni esatti dalla prima uscita tor
 nano le storie di Orsorella\, Brunetto\, Giuseppino e tutti gli altri prot
 agonisti dei racconti di Pietro in un libro arricchito di nuovi apparati e
  nuove immagini.\nL'iniziativa promossa dal Museo della Terra di Latera ve
 rrà realizzata in collaborazione con l'associazione Comunità narranti.\n
 Ad animare il patrimonio delle storie narrate da Pietro Moretti ci pensera
 nno Alfonso Prota e Carlo Sanetti\, che daranno vita ad una performance na
 rrativa musicale. \n\nIngresso gratuito\, per maggiori informazioni: info@
 museodellaterra.it
ATTACH;FMTTYPE=image/jpeg:https://lazioeventi.com/wp-content/uploads/2023/
 03/Orsorella-e-gli-altri.jpg
CATEGORIES:Arte e Cultura nel Lazio
LOCATION:Latera\, Comune di Latera\, Latera\, Viterbo\, Lazio\, Italia
GEO:42.6265;11.8283
X-APPLE-STRUCTURED-LOCATION;VALUE=URI;X-ADDRESS=Comune di Latera\, Latera\,
  Viterbo\, Lazio\, Italia;X-APPLE-RADIUS=100;X-TITLE=Latera:geo:42.6265,11
 .8283
END:VEVENT
BEGIN:VTIMEZONE
TZID:Europe/Rome
X-LIC-LOCATION:Europe/Rome
BEGIN:DAYLIGHT
DTSTART:20230326T030000
TZOFFSETFROM:+0100
TZOFFSETTO:+0200
TZNAME:CEST
END:DAYLIGHT
END:VTIMEZONE
END:VCALENDAR