BEGIN:VCALENDAR
VERSION:2.0
PRODID:-//wp-events-plugin.com//7.2.3.1//EN
TZID:Europe/Rome
X-WR-TIMEZONE:Europe/Rome
BEGIN:VEVENT
UID:31229@lazioeventi.com
DTSTART;TZID=Europe/Rome:20230721T211500
DTEND;TZID=Europe/Rome:20230731T230000
DTSTAMP:20230720T123930Z
URL:https://lazioeventi.com/eventi/ostia-antica-festival
SUMMARY:Ostia Antica Festival - Roma - 21 Luglio 23 21:15
DESCRIPTION:Prosegue l’ottava edizione della rassegna Ostia Antica Festiv
 al - Il Mito e il Sogno\, (organizzata del consorzio di imprese Antico Tea
 tro Romano in collaborazione con il Parco Archeologico di Ostia antica).\n
  \nLa novità del cartellone è quella di martedì 25 luglio: in scena Nab
 ucco di Giuseppe Verdi con un cast di artisti di grande carriera e fama in
 ternazionale tra i quali spicca Carmelo Corrado Caruso baritono che ha cal
 cato i palcoscenici di tutti i più grandi teatri internazionali nel ruolo
  di Nabucco\, il soprano Alessia Grimaldi\, artista spesso presente nei ca
 rtelloni del Teatro alla Scala di Milano\, nel ruolo di Abigaille\, il mez
 zosoprano Magdalena Urbanowicz nel ruolo di Fenena e  Paolo Pecchioli\, im
 pegnato nell’impervio ruolo di Zaccaria\, uno dei più impegnativi nell
 ’intero panorama lirico per voci di basso.\nA dirigere l’Orchestra Sin
 fonica di Grosseto ed il Coro Lirico dell’Umbria sarà il Maestro Robert
 o Gianola\, uno degli elementi di spicco tra i direttori che si approccian
 o ad affrontare partiture così complesse\, delicate e difficili\, ma al c
 ontempo affascinanti e coinvolgenti come quelle che propone il repertorio 
 italiano.  La regia è di Guido Zamara\, da anni professionista e titolare
  di decine di allestimenti nei migliori teatri italiani.\n\nIl 21 luglio s
 arà la volta di Amedeo Minghi che ritorna a Roma dopo 4 anni (inizio ore 
 21:45). Minghi salirà sul palco con un’orchestra d’archi composta da 
 18 elementi che sarà diretta dal maestro Mario Zannini Quirini e una band
  composta da Luca Perroni al Pianoforte\, Giandomenico Anellino alla chita
 rra\, Alessandro Mazza al basso\, Daniele Natrella alla batteria\, ai cori
  Rosy Messina e Giordano Spadafora.\n \nIl 22 luglio l'omaggio a Dalla e B
 attisti dal titolo “Lucio più Lucio” (inizio ore 21:45). Un’occasio
 ne per ricordali insieme con le voci di Rosalia Misseri e Gianmarco Carroc
 cia e una band capitanata da Giandomenico Anellino e Pino Soffredini che e
 seguiranno i più grandi successi: da “I giardini di Marzo” a “Tu no
 n mi basti mai”\, da “E penso a te” a “Caruso”.\n \nIl 26 luglio
  Michele Zarrillo (voce\, piano\, chitarra acustica ed elettrica) con un e
 ccezionale team di musicisti come Roberto Guarino e Andrea Valentini alle 
 chitarre\, Andrea Rongioletti (tastiere)\, Danilo Fiorucci (basso)\, Pino 
 Vecchioni (batteria).  Oltre due ore di spettacolo\, per scoprire e riscop
 rire un artista con una carriera e un repertorio come ce ne sono ancora po
 chi\, ricchissimo di successi e di veri classici della musica italiana d
 ’autore. Non mancheranno le canzoni degli ultimi album che tante soddisf
 azioni gli hanno regalato. Un’occasione imperdibile per apprezzare dal v
 ivo il grande talento\, le sue doti di musicista e compositore\, oltre che
  le qualità interpretative\, toccanti e virtuose allo stesso tempo. \n \n
 Per il teatro comico il palco del Teatro Romano ospiterà il 28 Alessandro
  Di Carlo con lo spettacolo “Matto vero”\, novità assoluta dell’est
 roverso attore romano che tra il lusco e il brusco regalerà agli spettato
 ri nuovi spunti di risata e di riflessione in un dialogo aperto sull’att
 ualità. Cosa aspettarsi? Dopo l’assenza forzata dalle regole imposte da
 lla Pandemia e il profondo cambiamento comportamentale che ne è conseguit
 o\, le tematiche che alimenteranno i dardi che lancerà Di Carlo sono un m
 istero riservato solo al pubblico in sala che verrà coinvolto in un nuovo
  spettacolo corrosivo\, pieno di colpi di scena e di momenti che probabilm
 ente – in perfetta linea con tutti quelli proposti dal performer – li 
 lascerà a bocca aperta.\n \nIl 29 luglio Antonio Giuliani in "MayDay...Su
 mmer". Queste le parole del protagonista “Questo nuovo testo è un perco
 rso quotidiano sulle nevrosi\, i comportamenti individuali\, che spesso ci
  portano a caratterizzare in maniera negativa la nostra vita di tutti i gi
 orni\, siamo perennemente in conflitto con tutto e tutti\, pensiamo sempre
  che ci sia qualche secondo fine\, anche analizzando una semplice azione\,
  un saluto\, una telefonata non ricevuta\, diventiamo amici per interesse\
 , spontanei per convenienza\, ridiamo per come sono gli altri e mai per co
 me siamo noi stessi".\nMayday è uno spettacolo che porta in scena quella 
 leggerezza in grado di portare un equilibrio tra comicità non volgare e m
 ai sopra le righe\, e qualche riflessione\, dove la risata è terapeutica\
 , perché un sorriso non ha mai ucciso nessuno anzi ha salvato l’uomo da
 lla monotonia. Inizio spettacolo ore 21:45\n \nIl 30 luglio è la volta di
  Drusilla Foer con il suo recital Eleganzissima\, accompagnata da Loris Di
  Leo al piano e Nico Gori al sax e clarinetto\, ai quali si unisce in alcu
 ni momenti\, alla chitarra classica\, il suo leggendario manager e produtt
 ore Franco Godi.\n \nDopo il tutto esaurito del concerto del 19 luglio\, i
 l 31 luglio torna il sassofonista disco di platino Jimmy Sax\, accompagnat
 o dalla Symphonic Dance Orchestra diretta dal M° Vincenzo Sorrentino per 
 due concerti tra sonorità deep-house\, funky ed electro.\n \nLa programma
 zione riprenderà il 3 settembre con la storica voce dei Led Zeppelin Robe
 rt Plant in Saving Grace\, il progetto che vede sul palco anche Suzi Dian 
 (voce)\, Oli Jefferson (percussioni)\, Tony Kelsey (mandolino\, baritono e
  chitarre acustiche) e Matt Worley (banjo\, chitarre acustiche e baritono\
 , cuatro)\, con un repertorio di "musica ispirata al paesaggio onirico del
 le marce gallesi".\nIl 7 settembre ancora musica con Nino D’Angelo che t
 orna in scena con Il Poeta che non sa parlare – Tour 2023.\nIl 9 settemb
 re sarà la volta di Andrea Pennacchi e il suo spettacolo Poiana e i suoi 
 fratelli con le musiche dal vivo di Giorgio Gobbo e Gianluca Segato.\nDopo
  il successo di pubblico dello spettacolo “La fine del mondo”\, andato
  in scena il 1° luglio\, Andrea Perroni fa il bis e torna sul palco del T
 eatro romano il 10 settembre.\nIl 15 settembre la vita di un trentenne\, l
 ’alternanza sul palco di monologhi\, canzoni\, personaggi di Tel chi Fil
 ippo\, lo spettacolo comico con Filippo Caccamo.\nChiuderà la programmazi
 one di questa edizione\, il 22 settembre\, la specialissima versione de Il
  Flauto Magico di Mozart\, opera interpretata dai bambini e dall’Orchest
 ra di Europa Incanto\, tutti diretti dal M° Germano Neri.\n \nIL CALENDAR
 IO AGGIORNATO\n \n21 luglio: Amedeo Minghi\n22 luglio: Lucio più Lucio. O
 maggio a Dalla e Battisti\n25 luglio: Nabucco di Giuseppe Verdi\n26 luglio
 : Michele Zarrillo\n28 luglio: Alessandro Di Carlo “Matto vero”\n29 lu
 glio: Antonio Giuliani “Mayday… Summer”\n30 luglio: Drusilla Foer 
 “Eleganzissima”\n31 luglio: Jimmy Sax & Symphonic Dance Orchestra “S
 ummer Tour 2023“\n3 settembre: Robert Plant feat. Suzi Dian “Saving Gr
 ace”\n7 settembre: Nino D’Angelo “Il Poeta che non sa parlare – To
 ur 2023”\n9 settembre: Andrea Pennacchi “Poiana e i suoi fratelli”\n
 10 settembre: Andrea Perroni “La fine del mondo”\n15 settembre: Filipp
 o Caccamo “Tel chi Filippo”\n22 settembre: Europa Incanto “Il Flauto
  Magico”\n \n \nTEATRO ROMANO / OSTIA ANTICA FESTIVAL 2023 - "IL MITO E 
 IL SOGNO - VIII EDIZIONE"\nPARCO ARCHEOLOGICO - VIALE DEI ROMAGNOLI 717 - 
 00119 - OSTIA ANTICA – ROMA\n \nINIZIO SPETTACOLI: ORE 21.15 (OVE NON SP
 ECIFICATO DIVERSAMENTE) | APERTURA BOTTEGHINO: ORE 18.30\nPREVENDITE: Tick
 etone.it\nINFO GENERALI: https://www.ostianticateatro.it - info@ostiantica
 teatro.it
ATTACH;FMTTYPE=image/jpeg:https://lazioeventi.com/wp-content/uploads/2022/
 06/teatro-romano-ostia-spettacolo.jpg
CATEGORIES:Musica, Spettacoli e Danza nel Lazio
LOCATION:Roma\, Via Leopardi\, Roma\, Roma\, Lazio\, Italia
GEO:41.8942;12.5017
X-APPLE-STRUCTURED-LOCATION;VALUE=URI;X-ADDRESS=Via Leopardi\, Roma\, Roma\
 , Lazio\, Italia;X-APPLE-RADIUS=100;X-TITLE=Roma:geo:41.8942,12.5017
END:VEVENT
BEGIN:VTIMEZONE
TZID:Europe/Rome
X-LIC-LOCATION:Europe/Rome
BEGIN:DAYLIGHT
DTSTART:20230326T030000
TZOFFSETFROM:+0100
TZOFFSETTO:+0200
TZNAME:CEST
END:DAYLIGHT
END:VTIMEZONE
END:VCALENDAR