BEGIN:VCALENDAR
VERSION:2.0
PRODID:-//wp-events-plugin.com//7.2.3.1//EN
TZID:Europe/Rome
X-WR-TIMEZONE:Europe/Rome
BEGIN:VEVENT
UID:42931@lazioeventi.com
DTSTART;TZID=Europe/Rome;VALUE=DATE:20251112
DTEND;TZID=Europe/Rome;VALUE=DATE:20251204
DTSTAMP:20251030T203209Z
URL:https://lazioeventi.com/eventi/otello-scatolini-armonia-5-0
SUMMARY:Otello Scatolini - ARMONIA 5.0 - Roma - 12 Novembre 25 00:00
DESCRIPTION:Otello Scatolini\nARMONIA 5.0\nAllorché di due farete Uno\n\nD
 al 12 novembre 2025 al 3 gennaio 2026 il Mattatoio di Roma presenta la mos
 tra di Otello Scatolini\, Armonia 5.0. \nAllorché di due farete Uno\, pro
 mossa da Assessorato alla Cultura di Roma Capitale e Azienda Speciale Pala
 expo. Realizzata da Azienda Speciale Palaexpo.\n\nLa mostra nasce da una i
 dea di Ivana Della Portella Vicepresidente Azienda Speciale Palaexpo con d
 elega al Mattatoio di Roma ed è a cura di Claudio Strinati.  \n\nInaugura
 zione 11 novembre\, ore 18:00\n\nLa mostra riunisce le opere realizzate da
  Otello Scatolini (Roma\, 1964) nell’arco di circa quindici anni\, unite
  da uno dei fili conduttori principali della sua ricerca\, svolta tra dise
 gno\, pittura e scultura: l’armonia del titolo\, che l’artista ricerca
  da alcuni anni anche attraverso una pratica meditativa\, trova compimento
  sia nelle forme\, sia nelle tecniche utilizzate\, cercando un equilibrio 
 armonico tra marmo\,  resina\, colori e diversi materiali\, conferendo all
 a scultura monumentale la leggerezza dell’acqua.  Il sottotitolo della m
 ostra esplica questo dualismo\, rappresentato dalla grande scultura Androg
 ino\, nuovo essere vitruviano lanciato nel XXI secolo e culminante nell’
 Uovo Cosmico\, sintesi del gesto magico\, creatore e guaritore dell’arte
 . \n\nTra le tante opere in mostra\, un grande spazio è dedicato alle gra
 ndi tele recanti una scrittura sussurrata e quasi inintelligibile che ritr
 oviamo anche in alcune sculture (Grida e sussurri\, 2010\; Mo(a)rmorio\, 2
 010): colata nel piombo e nell’oro\, riferimento alla sublimazione alche
 mica\, la scrittura diventa mantra e suggerisce al visitatore il silenzio 
 e il pensiero\, in opposizione alle grida e alla superficialità dominanti
 . \n\nLa stessa fase progettuale è per Otello Scatolini una fase di silen
 zio e di pensiero che si trasforma in parole guida e segno\, poi in disegn
 o e quindi in opera scolpita: due sale della mostra sono dedicate alla res
 tituzione e alla condivisione di questa esperienza originaria\, permettend
 o ai visitatori di immergersi virtualmente nello studio dell’artista att
 raverso l’impiego di visori in 3D. Un’esperienza immersiva dell’atto
  creativo alla presenza dell’artista\, che in diverse occasioni guiderà
  il pubblico  attraverso tutte le fasi del suo lavoro\, raccontandone la g
 enesi\, l’atto materiale e il significato finale. 
ATTACH;FMTTYPE=image/jpeg:https://lazioeventi.com/wp-content/uploads/2025/
 10/pagina-Armonia-Banner-solo-immagine.jpg
CATEGORIES:Arte e Cultura nel Lazio
LOCATION:Roma\, Via Leopardi\, Roma\, Roma\, Lazio\, Italia
GEO:41.8942;12.5017
X-APPLE-STRUCTURED-LOCATION;VALUE=URI;X-ADDRESS=Via Leopardi\, Roma\, Roma\
 , Lazio\, Italia;X-APPLE-RADIUS=100;X-TITLE=Roma:geo:41.8942,12.5017
END:VEVENT
BEGIN:VTIMEZONE
TZID:Europe/Rome
X-LIC-LOCATION:Europe/Rome
BEGIN:STANDARD
DTSTART:20251026T020000
TZOFFSETFROM:+0200
TZOFFSETTO:+0100
TZNAME:CET
END:STANDARD
END:VTIMEZONE
END:VCALENDAR