BEGIN:VCALENDAR
VERSION:2.0
PRODID:-//wp-events-plugin.com//7.2.3.1//EN
TZID:Europe/Rome
X-WR-TIMEZONE:Europe/Rome
BEGIN:VEVENT
UID:41713@lazioeventi.com
DTSTART;TZID=Europe/Rome:20250531T183000
DTEND;TZID=Europe/Rome:20250531T233000
DTSTAMP:20250528T161433Z
URL:https://lazioeventi.com/eventi/oumi
SUMMARY:OUMI - Capodimonte - 31 Maggio 25 18:30
DESCRIPTION:Prosegue il ciclo espositivo Otto Chiodi\, il progetto curatori
 ale ideato da Massimiliano Capo\, organizzato dall’associazione La festa
  delle medie e sostenuto dalla Regione Lazio.\n\nDopo il successo del prim
 o appuntamento dedicato a Maddalena Mauri\, ecco il secondo appuntamento: 
 OUMI\, che vede protagonisti gli artisti Libero Maggini e Giuseppe Restano
 \, a cura di Jurji Filieri.\n\nL’appuntamento è a Capodimonte sabato 31
  maggio\, nello spazio espositivo mamo - capodimonte in via Pianora 49\, c
 on il vernissage al via dalle 18.30 con dj set e aperitivo a cura del Bar 
 del Porto.\n\nIl titolo OUMI trae ispirazione da un brano di José Saramag
 o\, tratto da Oggetti quasi (Einaudi\, 1984)\, in cui l'autore riflette su
 ll'alienazione dell'uomo moderno attraverso la metafora di oggetti\, utens
 ili\, macchinari e installazioni difettosi. La mostra invita a una rifless
 ione sulla nostra quotidianità e sull'interazione con il mondo che ci cir
 conda.\n\nGli artisti in mostra sono Libero Maggini e Giuseppe Restano. Li
 bero Maggini è nato a Viareggio nel 1970: scultore\, la sua arte fonde tr
 adizione e sperimentazione. Le sue opere\, realizzate in bronzo\, terracot
 ta e marmo\, sono ispirate alla vita quotidiana e caratterizzate da un'esp
 ressività intensa e una profonda umanità. Ha esposto in numerose mostre\
 , tra cui la prima edizione di M’Arte a Porcari (2022) e la Lucca Bienna
 le Cartasia (2024).\n\nGiuseppe Restano è nato a Grottaglie (Taranto) nel
  1970: artista visivo noto per la sua pittura astratta e l'uso distintivo 
 del colore e della forma\, le sue composizioni geometriche vivaci rifletto
 no un approccio moderno e astratto alla pittura. Ha esposto in numerose mo
 stre personali e collettive in tutta Europa\, e le sue opere sono state og
 getto di articoli su riviste specializzate come Flash Art\, Segno\, Contem
 porary e Tema Celeste.\n\nPer informazioni 3351354905.
ATTACH;FMTTYPE=image/jpeg:https://lazioeventi.com/wp-content/uploads/2025/
 05/otto-chiodi.jpeg
CATEGORIES:Arte e Cultura nel Lazio,Musica, Spettacoli e Danza nel Lazio
LOCATION:Capodimonte\, Comune\, Capodimonte\, Viterbo\, Lazio\, Italia
GEO:42.5475;11.9058
X-APPLE-STRUCTURED-LOCATION;VALUE=URI;X-ADDRESS=Comune\, Capodimonte\, Vite
 rbo\, Lazio\, Italia;X-APPLE-RADIUS=100;X-TITLE=Capodimonte:geo:42.5475,11
 .9058
END:VEVENT
BEGIN:VTIMEZONE
TZID:Europe/Rome
X-LIC-LOCATION:Europe/Rome
BEGIN:DAYLIGHT
DTSTART:20250330T030000
TZOFFSETFROM:+0100
TZOFFSETTO:+0200
TZNAME:CEST
END:DAYLIGHT
END:VTIMEZONE
END:VCALENDAR