BEGIN:VCALENDAR
VERSION:2.0
PRODID:-//wp-events-plugin.com//7.2.3.1//EN
TZID:Europe/Rome
X-WR-TIMEZONE:Europe/Rome
BEGIN:VEVENT
UID:27462@lazioeventi.com
DTSTART;TZID=Europe/Rome;VALUE=DATE:20200831
DTEND;TZID=Europe/Rome;VALUE=DATE:20200914
DTSTAMP:20200825T073240Z
URL:https://lazioeventi.com/eventi/outdoor-education
SUMMARY:Outdoor Education - Sacrofano - 31 Agosto 20 00:00
DESCRIPTION:Prendono il via dal 31 agosto al 13 settembre 2020 le attività
  GRATUITE di Outdoor Education\, un progetto per bambini dai 3 agli 11 ann
 i che si svolge nello scenario naturale del Casale dell’Università Agra
 ria di Sacrofano (Via Monte del Casale\, 
ATTACH;FMTTYPE=image/jpeg:https://lazioeventi.com/wp-content/uploads/2020/
 08/IlCasaledelleEmozioni.png
CATEGORIES:Varie
LOCATION:Sacrofano\, Comune di Sacrofano\, Sacrofano\, Roma\, Lazio\, Itali
 a
GEO:42.1061;12.4476
X-APPLE-STRUCTURED-LOCATION;VALUE=URI;X-ADDRESS=Comune di Sacrofano\, Sacro
 fano\, Roma\, Lazio\, Italia;X-APPLE-RADIUS=100;X-TITLE=Sacrofano:geo:42.1
 061,12.4476
END:VEVENT
BEGIN:VTIMEZONE
TZID:Europe/Rome
X-LIC-LOCATION:Europe/Rome
BEGIN:DAYLIGHT
DTSTART:20200329T030000
TZOFFSETFROM:+0100
TZOFFSETTO:+0200
TZNAME:CEST
END:DAYLIGHT
END:VTIMEZONE
END:VCALENDAR