BEGIN:VCALENDAR
VERSION:2.0
PRODID:-//wp-events-plugin.com//7.2.3.1//EN
TZID:Europe/Rome
X-WR-TIMEZONE:Europe/Rome
BEGIN:VEVENT
UID:38536@lazioeventi.com
DTSTART;TZID=Europe/Rome;VALUE=DATE:20240229
DTEND;TZID=Europe/Rome;VALUE=DATE:20240303
DTSTAMP:20240214T124753Z
URL:https://lazioeventi.com/eventi/overground
SUMMARY:Overground - Roma - 29 Febbraio 24 00:00
DESCRIPTION:Il teatro negli spazi non istituzionali\n\nAl Teatro Palladium 
 e al DAMS dell’Università Roma Tre\, tre giorni di teatro\, studi\, inc
 ontri tra controcultura\, spazi non istituzionali\, autofinanziati\, autog
 estiti\, indipendenti\ncon Cristian Ceresoli\, Silvia Gallerano\, Ecoritmi
 \, Carrozzerie n.o.t e molti altri\n\nPer l’edizione 2024\, Overground a
 ccoglie il contributo dei docenti di spettacolo e degli studenti del DAMS 
 dell’Università Roma Tre e dedica un focus specifico alle esperienze di
  teatro e danza che si collocano all’interno di spazi non istituzionali\
 , autofinanziati\, autogestiti\, indipendenti o appartenenti alle reti del
 la controcultura\, sul territorio romano ma non solo. In tale prospettiva 
 verranno presentati alcuni spettacoli nati all’interno di questi spazi e
  proposti dalle stesse realtà che li gestiscono\, accompagnati da due gio
 rnate di studio\, curate dai docenti di spettacolo del DAMS\, che coinvolg
 eranno studiosi\, artisti\, attivisti e studenti. In tal modo si affronter
 anno delle questioni quali la complessa convivenza tra spazi indipendenti 
 e istituzioni\, la dialettica tra spazi dedicati alla produzione culturale
  e tessuto urbano\, il rapporto tra attivismo e arti performative.\n\nAd a
 prire la seconda edizione di Overground il 29 febbraio al Teatro Palladium
  alle ore 21:00 sarà lo spettacolo “Come un pesce sulla terra” di e c
 on Marta Cellamare e la regia di Riccardo Pisani\, liberamente ispirato ai
  Diari di Vaslav Nijinsky\, spettacolo nato proprio grazie al supporto di 
 spazi indipendenti quali: L’Asilo\, Scugnizzo Liberato\, Rete Habitat - 
 spazi per la danza\, Teatro del Lavoro di Pinerolo\, Spazio 13\, Cantieri 
 Meticci – Spazio Met. La giornata di venerdì 1 marzo\, vedrà invece un
  doppio appuntamento performativo e la prima giornata di studio. Si cominc
 erà alle 15.30 al DAMS dell’Università Roma Tre con l’incontro a cur
 a degli studenti “Gli artisti e gli attivisti degli spazi indipendenti d
 ialogano con gli studenti del DAMS” per poi proseguire alle 18.00 con 
 “Archivi e memoria delle occupazioni: l’esempio dell’archivio del Te
 atro Valle Occupato”. Alle ore 20:00 ci spostiamo al Teatro Palladium do
 ve saranno sul palco Valentina Ghelfi e Selene Demaria con lo spettacolo 
 “Sei la fine del mondo (letteralmente)” con regia e testo di Anna Chia
 ra Vispi\, proposto da Carrozzerie n.o.t\, mentre alle 21:30 sarà la volt
 a di “Ri|Creazioni. Studio per un tragico futuro” testo originale\, re
 gia e interpretazione di Clara Addari e Edoardo D’Antonio\, proposto da 
 Calpurnia APS | Ex Mercato Torre Spaccata.\n\nSabato 2 marzo\, dalle 9:30 
 alle 12.30 presso il DAMS dell’Università Roma Tre si terrà la seconda
  giornata di studio che affronterà il tema “Teatro e spazi della contro
 cultura in Italia. Prospettive di ricerca”. Ci spostiamo poi alle ore 21
 .00 al Teatro Palladium per assistere a “La Merda"\, con Silvia Galleran
 o\, scritto da Cristian Ceresoli\, pluripremiato spettacolo e simbolo dell
 a scena indipendente italiana.\n\nPer la sua seconda edizione\, Overground
  - oltre a coinvolgere diverse realtà teatrali non istituzionali della ca
 pitale - le mette in dialogo con alcune delle iniziative della rete Ecorit
 mi\, composta dalla Fondazione Roma Tre Teatro Palladium come ente capofil
 a\, in partnership con la Cooperativa Eticae – Stewardship in action e M
 argine Operativo\, e nata per la realizzazione di due progetti di Capacity
  Building nell’ambito della progettazione sostenibile di eventi performa
 tivi rivolti proprio agli operatori dello spettacolo\, grazie al contribut
 o del Mic - Direzione Generale Creatività Contemporanea. In tal modo anch
 e il tema della transizione ecologica entra a far parte dell’orizzonte t
 ematico del festival.\n\nAlcune sessioni\, inoltre\, si interrogheranno su
 i problemi della composizione degli archivi per documentare le pratiche oc
 cupative\, o presenteranno alcuni orizzonti di ricerca di tipo storiografi
 co e teatrologico a proposito del teatro negli spazi della controcultura. 
 Le giornate di studio e il festival rappresentano una prima tappa di un pe
 rcorso di ricerca che ha coinvolto ricercatrici e ricercatori di diverse u
 niversità e che\, negli ultimi mesi\, ha visto come parte attiva anche gl
 i studenti del DAMS di Roma Tre\, e proseguirà all’interno delle sedi d
 elle realtà teatrali indipendenti che partecipano al progetto.\n\nI bigli
 etti per gli spettacoli sono disponibili al botteghino a partire da due or
 e prima dell’inizio di ogni spettacolo o online sul sito boxol.it/teatro
 palladium. \nIl prezzo di ciascun biglietto è di 5 euro intero. \nPer lo 
 spettacolo La Merda\, il prezzo del biglietto è di 15 euro intero\, ridot
 to a 10 euro per gli studenti.\n\nPer maggiori informazioni contattare sta
 ff.spettacolo@teatropalladium.it\n
ATTACH;FMTTYPE=image/jpeg:https://lazioeventi.com/wp-content/uploads/2024/
 02/Come-un-pesce-sulla-terra_Foto-di-Silvia-Varrani.jpg
CATEGORIES:Musica, Spettacoli e Danza nel Lazio
LOCATION:Roma\, Via Leopardi\, Roma\, Roma\, Lazio\, Italia
GEO:41.8942;12.5017
X-APPLE-STRUCTURED-LOCATION;VALUE=URI;X-ADDRESS=Via Leopardi\, Roma\, Roma\
 , Lazio\, Italia;X-APPLE-RADIUS=100;X-TITLE=Roma:geo:41.8942,12.5017
END:VEVENT
BEGIN:VTIMEZONE
TZID:Europe/Rome
X-LIC-LOCATION:Europe/Rome
BEGIN:STANDARD
DTSTART:20231029T020000
TZOFFSETFROM:+0200
TZOFFSETTO:+0100
TZNAME:CET
END:STANDARD
END:VTIMEZONE
END:VCALENDAR