BEGIN:VCALENDAR
VERSION:2.0
PRODID:-//wp-events-plugin.com//7.2.3.1//EN
TZID:Europe/Rome
X-WR-TIMEZONE:Europe/Rome
BEGIN:VEVENT
UID:40690@lazioeventi.com
DTSTART;TZID=Europe/Rome:20250221T170000
DTEND;TZID=Europe/Rome:20250221T190000
DTSTAMP:20250130T214947Z
URL:https://lazioeventi.com/eventi/pagine-e-sapori-in-buvette-2
SUMMARY:Pagine e Sapori in Buvette - Priverno - 21 Febbraio 25 17:00
DESCRIPTION:Il Comune di Priverno è lieto di annunciare la rassegna letter
 aria “Pagine e Sapori in Buvette”\, ospitata nell'incantevole cornice 
 della nuova Buvette dei Musei\, in piazza Giovanni XXIII\, con tre appunta
 menti dedicati alla passione per la lettura e alla valorizzazione del nost
 ro patrimonio culturale e gastronomico.\nLa rassegna\, aperta a tutta la c
 ittadinanza\, offrirà momenti di condivisione\, conoscenza e riflessione 
 attraverso le parole degli autori e i sapori delle prelibatezze della trad
 izione culinaria.\n\nCalendario degli eventi:\n\n21 febbraio\nomaggio a Fr
 ancesca Caddeo con la speciale lettura del suo “C’era na vota. Raccont
 i privernati”\ncon la partecipazione della famiglia\, delle relatrici Li
 cia Pastore ed Elvira Picozza e il contributo delle scuole di Priverno.\nV
 iaggeremo nei ricordi e nelle tradizioni popolari del nostro territorio at
 traverso i personaggi\, le circostanze\, i luoghi e le emozioni di un temp
 o passato\, ma mai dimenticato\, descritto magistralmente da Francesca Cad
 deo\, scrittrice privernate\, recentemente scomparsa\, molto apprezzata s
 ia in ambito locale che nazionale. \n"Essere bambini a Priverno intorno a
 gli anni cinquanta era in fondo una condizione di privilegio. La maggiore 
 libertà di cui un bambino allora godeva era quella del dialetto. Una ling
 ua concreta\, strettamente connessa alla realtà ma anche terra di conquis
 ta e libertà di ricerca".\n\n28 febbraio\n“La scelta giusta. Quattro st
 orie sulla Resistenza”- Incontro con l’autore Emilio Drudi\nStorie di 
 una Resistenza fatta da donne e uomini che hanno scelto di combattere il n
 azifascismo senz'armi\, ma con gli stessi enormi rischi\, guidati da quel 
 senso di libertà e giustizia per costruire un futuro nuovo\, ispirato ai 
 valori fondamento della Costituzione Repubblicana.
ATTACH;FMTTYPE=image/jpeg:https://lazioeventi.com/wp-content/uploads/2025/
 01/1-1.jpg
CATEGORIES:Arte e Cultura nel Lazio
LOCATION:Priverno\, Comune di Priverno\, Priverno\, Latina\, Lazio\, Italia
GEO:41.4734;13.1817
X-APPLE-STRUCTURED-LOCATION;VALUE=URI;X-ADDRESS=Comune di Priverno\, Priver
 no\, Latina\, Lazio\, Italia;X-APPLE-RADIUS=100;X-TITLE=Priverno:geo:41.47
 34,13.1817
END:VEVENT
BEGIN:VTIMEZONE
TZID:Europe/Rome
X-LIC-LOCATION:Europe/Rome
BEGIN:STANDARD
DTSTART:20241027T020000
TZOFFSETFROM:+0200
TZOFFSETTO:+0100
TZNAME:CET
END:STANDARD
END:VTIMEZONE
END:VCALENDAR