BEGIN:VCALENDAR
VERSION:2.0
PRODID:-//wp-events-plugin.com//7.2.3.1//EN
TZID:Europe/Rome
X-WR-TIMEZONE:Europe/Rome
BEGIN:VEVENT
UID:38900@lazioeventi.com
DTSTART;TZID=Europe/Rome:20240427T100000
DTEND;TZID=Europe/Rome:20240427T130000
DTSTAMP:20240406T162725Z
URL:https://lazioeventi.com/eventi/palatino-e-domus-tiberiana-nuova-apertu
 ra
SUMMARY:Palatino e Domus Tiberiana – Nuova apertura - Roma - 27 Aprile 24
  10:00
DESCRIPTION:Ha finalmente aperto al pubblico\, dopo oltre 50 anni di attesa
 \, il primo vero e proprio palazzo imperiale sul Palatino: la Domus Tiberi
 ana! Eretta sul versante nord-occidentale del colle nel corso del I secolo
  d.C.\, fu più volte ampliata ed impreziosita grazie soprattutto agli int
 erventi di tre imperatori: Nerone\, Domiziano ed Adriano. Il palazzo dispo
 neva di un vasto settore residenziale\, ma comprendeva anche aree a giardi
 no\, luoghi di culto\, ambienti destinati alla guardia pretoriana a tutela
  dell’imperatore\, oltre ad un vero e proprio quartiere di servizi affac
 ciato sul Foro Romano. In seguito alla caduta di Roma\, il palazzo fu scel
 to come sede pontificia da Giovanni II e dopo un lungo periodo di abbandon
 o tornò ad essere protagonista in città quando i Farnese realizzarono pr
 oprio sulle terrazze della Domus Tiberiana gli straordinari Horti Farnesia
 ni\, uno splendido giardino di delizie destinato ad ospitare una nuova cor
 te. Non resta quindi che partecipare alla nostra visita guidata per andare
  insieme alla scoperta di questo straordinario luogo di Roma: il Palatino!
 \n\n&nbsp\;\n\nLa visita NON comprende l’ingresso al Colosseo. \n\n&nbsp
 \;\n\nQuando: Sabato 27 Aprile 2024 alle ore 10:00\n\nAppuntamento in Via 
 di San Gregorio\, all’ingresso dell’area archeologica del Palatino\n\n
 Costi: € 30 con biglietto intero\;  € 16 con biglietto ridotto\; € 
 12 con biglietto gratuito. I costi includono visita guidata\, noleggio del
 le radioguide e biglietto di ingresso con diritti di prenotazione. Prenota
 zione obbligatoria e pagamento anticipato. Per tutte le informazioni consu
 ltare il nostro sito.\n\nInfo e prenotazioni: L’Asino d’Oro Associazio
 ne Culturale | 346 5920077 | info@lasinodoro.it\n\n&nbsp\;
CATEGORIES:Arte e Cultura nel Lazio
LOCATION:Roma\, Via Leopardi\, Roma\, Roma\, Lazio\, Italia
GEO:41.8942;12.5017
X-APPLE-STRUCTURED-LOCATION;VALUE=URI;X-ADDRESS=Via Leopardi\, Roma\, Roma\
 , Lazio\, Italia;X-APPLE-RADIUS=100;X-TITLE=Roma:geo:41.8942,12.5017
END:VEVENT
BEGIN:VTIMEZONE
TZID:Europe/Rome
X-LIC-LOCATION:Europe/Rome
BEGIN:DAYLIGHT
DTSTART:20240331T030000
TZOFFSETFROM:+0100
TZOFFSETTO:+0200
TZNAME:CEST
END:DAYLIGHT
END:VTIMEZONE
END:VCALENDAR