BEGIN:VCALENDAR
VERSION:2.0
PRODID:-//wp-events-plugin.com//7.2.3.1//EN
TZID:Europe/Rome
X-WR-TIMEZONE:Europe/Rome
BEGIN:VEVENT
UID:35447@lazioeventi.com
DTSTART;TZID=Europe/Rome:20250525T100000
DTEND;TZID=Europe/Rome:20250525T190000
DTSTAMP:20250520T135229Z
URL:https://lazioeventi.com/eventi/palazzo-camuccini-il-parco
SUMMARY:Palazzo Camuccini - Il Parco - Cantalupo in Sabina - 25 Maggio 25 1
 0:00
DESCRIPTION:In occasione della Giornata Nazionale A.D.S.I. 2025 visita del 
 parco di Palazzo Camuccini\n\nl palazzo non è visitabile in quanto sottop
 osto a restauro.\nOrario visite 10-19\n\nDimora\nPalazzo Camuccini fu edif
 icato su un preesistente fabbricato di epoca romana. Il suo aspetto monume
 ntale (castello) fu modificato dal cardinale Pier Donato Cesi (1556) che l
 o trasformò in una dimora rinascimentale come la vediamo oggi\, con l'int
 ervento di Giandomenico Bianchi\, allievo del Vignola. Di proprietà dei b
 aroni Camuccini dal 1862.
ATTACH;FMTTYPE=image/jpeg:https://lazioeventi.com/wp-content/uploads/2023/
 05/palazzo-camuccini-con-annesso-parco-002.jpg
CATEGORIES:Arte e Cultura nel Lazio
LOCATION:Cantalupo in Sabina\, Comune\, Cantalupo in Sabina\, Rieti\, Lazio
 \, Italia
GEO:42.3062;12.648
X-APPLE-STRUCTURED-LOCATION;VALUE=URI;X-ADDRESS=Comune\, Cantalupo in Sabin
 a\, Rieti\, Lazio\, Italia;X-APPLE-RADIUS=100;X-TITLE=Cantalupo in Sabina:
 geo:42.3062,12.648
END:VEVENT
BEGIN:VTIMEZONE
TZID:Europe/Rome
X-LIC-LOCATION:Europe/Rome
BEGIN:DAYLIGHT
DTSTART:20250330T030000
TZOFFSETFROM:+0100
TZOFFSETTO:+0200
TZNAME:CEST
END:DAYLIGHT
END:VTIMEZONE
END:VCALENDAR