BEGIN:VCALENDAR
VERSION:2.0
PRODID:-//wp-events-plugin.com//7.2.3.1//EN
TZID:Europe/Rome
X-WR-TIMEZONE:Europe/Rome
BEGIN:VEVENT
UID:35468@lazioeventi.com
DTSTART;TZID=Europe/Rome:20230521T100000
DTEND;TZID=Europe/Rome:20230521T170000
DTSTAMP:20230516T093731Z
URL:https://lazioeventi.com/eventi/palazzo-coluzzi
SUMMARY:Palazzo Coluzzi - Carpineto Romano - 21 Maggio 23 10:00
DESCRIPTION:In occasione della Giornata Nazionale A.D.S.I. 2023 sarà possi
 bile effettuare la visita gratuita e guidata del Piano di Rappresentanza e
  delle Cantine con museo della Tradizione Rurale.\n\nLa costruzione del Pa
 lazzo iniziò nel XII sec. come casa-torre e fu riconosciuto\, con le anne
 sse proprietà\, dai canonici di San Giovanni in Laterano come feudo degli
  Annibaldi conti di Ceccano. Nel XIV sec. gli Annibaldi si unirono per mat
 rimoni alla famiglia dei Caetani\, dando origine nel XV sec. alla famiglia
  Coluzzi (come rappresentato nel logo che intreccia la lettera A con due l
 ettere C)\; questa ampliò il palazzo per trasformarlo in residenza nobili
 are. Nel XVIII sec. il cardinale Giovan Francesco Albani assegnò ai Coluz
 zi il titolo di suoi "Famigliari" ascrivendoli al patriziato romano.
ATTACH;FMTTYPE=image/jpeg:https://lazioeventi.com/wp-content/uploads/2023/
 05/whatsapp-image.jpeg
CATEGORIES:Arte e Cultura nel Lazio
LOCATION:Carpineto Romano\, Comune\, Carpineto Romano\, Roma\, Lazio\, Ital
 ia
GEO:41.6045;13.0853
X-APPLE-STRUCTURED-LOCATION;VALUE=URI;X-ADDRESS=Comune\, Carpineto Romano\,
  Roma\, Lazio\, Italia;X-APPLE-RADIUS=100;X-TITLE=Carpineto Romano:geo:41.
 6045,13.0853
END:VEVENT
BEGIN:VTIMEZONE
TZID:Europe/Rome
X-LIC-LOCATION:Europe/Rome
BEGIN:DAYLIGHT
DTSTART:20230326T030000
TZOFFSETFROM:+0100
TZOFFSETTO:+0200
TZNAME:CEST
END:DAYLIGHT
END:VTIMEZONE
END:VCALENDAR