BEGIN:VCALENDAR
VERSION:2.0
PRODID:-//wp-events-plugin.com//7.2.3.1//EN
TZID:Europe/Rome
X-WR-TIMEZONE:Europe/Rome
BEGIN:VEVENT
UID:28550@lazioeventi.com
DTSTART;TZID=Europe/Rome:20210925T180000
DTEND;TZID=Europe/Rome:20210926T193000
DTSTAMP:20210922T122519Z
URL:https://lazioeventi.com/eventi/palazzo-doria-pamphilj-2
SUMMARY:Palazzo Doria Pamphilj - Viterbo - 25 Settembre 21 18:00
DESCRIPTION:Ultimi appuntamenti estivi sabato 25 e domenica 26 settembre a 
 Palazzo Doria Pamphilj con le straordinarie visite allo storico palazzo.\n
 \nSi conclude il ciclo di eventi che hanno accompagnato l’estate sammart
 inese\, grazie all’intervento della Regione Lazio\, che ha ridato vita a
 llo storico Palazzo\, simbolo del piccolo borgo\, e affidato a LAZIOcrea l
 a gestione degli appuntamenti estivi\, con il coinvolgimento di associazio
 ni locali.\n\nAlle ore 18.00 la Compagnia teatrale Danilo Morucci\, insiem
 e allo storico Pamphiliano\, Colombo Bastianelli\, guiderà i visitatori p
 er circa un’ora e mezza in un percorso guidato e teatralizzato alla scop
 erta della storia della principesca struttura\, attraverso aneddoti e curi
 osità del borgo di San Martino al Cimino\, con intermezzi recitati in abi
 ti d’epoca.\n\nPalazzo Doria Pamphilj\, appartenuto a Olimpia Maidalchin
 i Pamphilj\, cognata di Papa Innocenzo X\, che volle qui a San Martino il 
 suo feudo\, sorge accanto all'Abbazia ed era usato originariamente dai mon
 aci come ospedale\, poi trasformato in un sontuoso palazzo signorile utili
 zzando i materiali provenienti dall'altro palazzo di famiglia di Donna Oli
 mpia\, quello di piazza Navona a Roma. Sarà possibile visitare il locale 
 medievale\, sottostante il piano stradale\, noto come "Cantinone" (l'antic
 o Hospitale dell'abbazia)\, il piano rialzato (con la vasta sala Aldobrand
 ini)\, il mezzanino e il piano nobile (con la splendida Sala Olimpia e le 
 altre stanze impreziosite da soffitti lignei e fregi decorati).\n\nPalazzo
  Doria Pamphilj- Strada Sammartinese\, 2 – Via Andrea Doria\, 20 - 01100
  – Viterbo.\n\n&nbsp\;\n\nPROGRAMMA\n\nSabato 25 settembre e domenica 26
  dalle 18.00 alle 19.30\n\nPERCORSO IN COSTUME DEL XVII SECOLO - Sala Aldo
 brandini- cantinone e sala regia\,\n\nVisita a Palazzo Doria Pamphilj con 
 spiegazione storica del pamphiliano Colombo Bastianelli ed intermezzi reci
 tati con personaggi tratti dalle vicende della storia del borgo di San Mar
 tino al Cimino.\n\nA cura della compagnia teatrale Danilo Morucci.\n\nCost
 o 10 euro
ATTACH;FMTTYPE=image/jpeg:https://lazioeventi.com/wp-content/uploads/2021/
 09/Doria_Pamphilj.jpg
CATEGORIES:Arte e Cultura nel Lazio
LOCATION:Viterbo\, Comune\, Viterbo\, Viterbo\, Lazio\, Italia
GEO:42.417;12.1051
X-APPLE-STRUCTURED-LOCATION;VALUE=URI;X-ADDRESS=Comune\, Viterbo\, Viterbo\
 , Lazio\, Italia;X-APPLE-RADIUS=100;X-TITLE=Viterbo:geo:42.417,12.1051
END:VEVENT
BEGIN:VTIMEZONE
TZID:Europe/Rome
X-LIC-LOCATION:Europe/Rome
BEGIN:DAYLIGHT
DTSTART:20210328T030000
TZOFFSETFROM:+0100
TZOFFSETTO:+0200
TZNAME:CEST
END:DAYLIGHT
END:VTIMEZONE
END:VCALENDAR