BEGIN:VCALENDAR
VERSION:2.0
PRODID:-//wp-events-plugin.com//7.2.3.1//EN
TZID:Europe/Rome
X-WR-TIMEZONE:Europe/Rome
BEGIN:VEVENT
UID:30947@lazioeventi.com
DTSTART;TZID=Europe/Rome:20220521T150000
DTEND;TZID=Europe/Rome:20220521T170000
DTSTAMP:20220516T092929Z
URL:https://lazioeventi.com/eventi/palazzo-e-giardini-farnese-a-caprarola
SUMMARY:Palazzo e Giardini Farnese a Caprarola - Caprarola - 21 Maggio 22 1
 5:00
DESCRIPTION:Il famoso palazzo a forma pentagonale fu una delle molte dimore
  signorili costruite dai Farnese nei propri domini\, iniziato dal Cardinal
  Alessandro Farnese.\nAll'interno della sontuosa dimora lavorarono i migli
 ori pittori e architetti dell'epoca. I temi degli affreschi furono ispirat
 i dal letterato Annibal Caro e realizzati da Taddeo Zuccari\, poi sostitui
 to dal fratello Federico Zuccari\, da Onofrio Panvinio e da Fulvio Orsini.
 \nAlla villa sono annessi gli "Orti Farnesiani" (con lo stesso nome dei gi
 ardini della famiglia sul colle Palatino a Roma)\, uno splendido esempio d
 i giardino tardo-rinascimentale\, realizzato attraverso un sistema di terr
 azzamenti alle spalle della villa\, arroccati sul colle dal quale s'erge l
 a costruzione e collegati dal Vignola con la residenza attraverso dei pont
 i.\nQuesti giardini all'italiana sono tra il più bell'esempio conosciuto 
 nel Lazio con fontane\, giochi d'acqua\, statue monumentali: una vera oasi
  di pace immersa nel bosco!\nIl Palazzo e i Giardini sono state location d
 i alcuni tra i più importanti film e Serie Tv italiane e internazionali d
 i tutti i tempi (I Medici\, I Borgia\, L'Avaro\, Pinocchio)\n*(Testo origi
 nale di Roma Caput Tour\, coloro che ancora una volta copieranno spudorata
 mente il testo descrittivo degli eventi di questa pagina saranno immediata
 mente segnalati della violazione della proprietà intellettuale altrui agl
 i organi competenti)*\nAppuntamento ore 15.00 in Piazza Farnese 1 piazzale
  all' ingresso fuori dal palazzo: Cercare Bandiera Viola Logo Roma Caput T
 our.\nDurata Visita Guidata 2 ore circa (Palazzo e Giardini Alti)\nCosto v
 isita guidata € 13.00 (adulti) € 5.00 (bambini 5-13 anni)\n€ 2.00 no
 leggio auricolari (Obbligatori per tutti per il mantenimento delle distanz
 e di sicurezza).\nPer evitare qualsiasi contatto sarà possibile anche sal
 dare prima richiedendolo in fase di prenotazione\nPer semplicità si richi
 ede il pagamento con quota esatta.\nIl sistema di microfono/auricolari\, c
 he sarà OBBLIGATORIO per tutte le visite guidate\, consente di seguire tu
 tte le spiegazioni della guida anche a notevoli distanze\, in modo da appl
 icare tutte le misure di sicurezza previste dal decreto con distanziamento
  sociale dei partecipanti all'attività.\nAd ogni partecipante sarà forni
 to un radio trasmettitore sanificato\, un salviettino igienizzante sigilla
 to\, e un auricolare sterile usa e getta (diversamente si potranno usare i
  propri auricolari del cellulare).\nBiglietto d'Ingresso Palazzo Farnese\n
 Intero € 5\,00\nRidotto € 2\,00 (18-25 anni)\nGratuito € 0\,00 0-17 
 anni\, personale del Ministero\, membri dell'I.C.O.M.\, giornalisti\, doce
 nti Storia dell'Arte\, studenti Archeologia/Architettura/Arte\, docenti di
  ruolo\nPrenotazione Obbligatoria scrivendo a info@romacaputour.it o invia
 ndo un sms allo 0039 333 4854287 specificando Titolo della visita\, Nome\,
  Cognome\, Recapito telefonico\, numero di persone\, e-mail di riferimento
 .
ATTACH;FMTTYPE=image/jpeg:https://lazioeventi.com/wp-content/uploads/2022/
 05/palazzo_farnese_-_caprarola_vt_3.jpg
CATEGORIES:Arte e Cultura nel Lazio
LOCATION:Caprarola\, Comune di Caprarola\, Caprarola\, Viterbo\, Lazio\, It
 alia
GEO:42.3275;12.2381
X-APPLE-STRUCTURED-LOCATION;VALUE=URI;X-ADDRESS=Comune di Caprarola\, Capra
 rola\, Viterbo\, Lazio\, Italia;X-APPLE-RADIUS=100;X-TITLE=Caprarola:geo:4
 2.3275,12.2381
END:VEVENT
BEGIN:VTIMEZONE
TZID:Europe/Rome
X-LIC-LOCATION:Europe/Rome
BEGIN:DAYLIGHT
DTSTART:20220327T030000
TZOFFSETFROM:+0100
TZOFFSETTO:+0200
TZNAME:CEST
END:DAYLIGHT
END:VTIMEZONE
END:VCALENDAR