BEGIN:VCALENDAR
VERSION:2.0
PRODID:-//wp-events-plugin.com//7.2.3.1//EN
TZID:Europe/Rome
X-WR-TIMEZONE:Europe/Rome
BEGIN:VEVENT
UID:40161@lazioeventi.com
DTSTART;TZID=Europe/Rome:20241103T153000
DTEND;TZID=Europe/Rome:20241103T173000
DTSTAMP:20241029T165916Z
URL:https://lazioeventi.com/eventi/palazzo-massimo-alle-terme-ingresso-gra
 tuito
SUMMARY:Palazzo Massimo alle Terme – Ingresso Gratuito - Roma - 3 Novembr
 e 24 15:30
DESCRIPTION:Una visita guidata nella domenica con ingresso gratuito per and
 are insieme alla scoperta di una delle sedi più importanti del Museo Nazi
 onale Romano: Palazzo Massimo alle Terme. A pochi passi dalla stazione Ter
 mini\, all’interno palazzo ottocentesco – sede del Collegio dei Gesuit
 i – è esposta oggi una delle più importanti collezioni di arte classic
 a al mondo\, composta da sculture\, affreschi e mosaici che testimoniano l
 ’evoluzione della cultura artistica romana dall’età tardo-repubblican
 a all’età tardo-antica\, attraverso un itinerario nel quale rivivono st
 oria\, miti e vita quotidiana di Roma. Impossibile mancare quindi: ti aspe
 ttiamo!\n\nEssendo la Domenica ad ingresso gratuito\, ricordiamo che potre
 bbe esserci un po’ di fila all’ingresso.\n\nQuando: Domenica 03 novemb
 re 2024 ore 15.30\n\nAppuntamento in Largo di Villa Peretti\, all’ingres
 so del Museo\n\nCosti: €12 a persona. Biglietto gratuito per tutti. Pren
 otazione obbligatoria.\n\nInfo e prenotazioni: L’Asino d’Oro Associazi
 one Culturale | 3465920077 | info@lasinodoro.it
ATTACH;FMTTYPE=image/jpeg:https://lazioeventi.com/wp-content/uploads/2024/
 10/palazzo-massimo.jpg
CATEGORIES:Arte e Cultura nel Lazio
LOCATION:Roma\, Via Leopardi\, Roma\, Roma\, Lazio\, Italia
GEO:41.8942;12.5017
X-APPLE-STRUCTURED-LOCATION;VALUE=URI;X-ADDRESS=Via Leopardi\, Roma\, Roma\
 , Lazio\, Italia;X-APPLE-RADIUS=100;X-TITLE=Roma:geo:41.8942,12.5017
END:VEVENT
BEGIN:VTIMEZONE
TZID:Europe/Rome
X-LIC-LOCATION:Europe/Rome
BEGIN:STANDARD
DTSTART:20241027T020000
TZOFFSETFROM:+0200
TZOFFSETTO:+0100
TZNAME:CET
END:STANDARD
END:VTIMEZONE
END:VCALENDAR