BEGIN:VCALENDAR
VERSION:2.0
PRODID:-//wp-events-plugin.com//7.2.3.1//EN
TZID:Europe/Rome
X-WR-TIMEZONE:Europe/Rome
BEGIN:VEVENT
UID:42509@lazioeventi.com
DTSTART;TZID=Europe/Rome;VALUE=DATE:20250926
DTEND;TZID=Europe/Rome;VALUE=DATE:20250928
DTSTAMP:20250922T060553Z
URL:https://lazioeventi.com/eventi/palio-dei-quarti
SUMMARY:Palio dei Quarti - Cittaducale - 26 Settembre 25 00:00
DESCRIPTION:Torna il Palio dei Quarti Roberto D’Angiò il 26 e il 27 sett
 embre 2025 presso il centro storico di Cittaducale. Giunto alla sua second
 a edizione\, il Palio\, organizzato da Le Due Torri Aps\, vedrà un torneo
  di tiro con l’arco storico e la competizione delle dame. \n\nIl 26 sett
 embre si parte con la cena medievale alle 19:30 e alle 21 la cerimonia d
 ’apertura con l’estrazione degli arcieri. \n\nIl 27\, invece\, alle 16
  convocazione dei Rioni e l’arrivo di Roberto D’Angiò. Alle 18 inizio
  dei giochi e alle 19:30 cena medievale con a seguire il torneo di tiro co
 n l’arco e la gara delle dame.
ATTACH;FMTTYPE=image/jpeg:https://lazioeventi.com/wp-content/uploads/2025/
 09/palio-dei-quarti-e1758521140519.jpg
CATEGORIES:Sagre, Gastronomia e Tradizioni nel Lazio,Sport, Tempo Libero e
 Divertimento nel Lazio
LOCATION:Cittaducale\, Comune\, Cittaducale\, Rieti\, Lazio\, Italia
GEO:42.3864;12.9478
X-APPLE-STRUCTURED-LOCATION;VALUE=URI;X-ADDRESS=Comune\, Cittaducale\, Riet
 i\, Lazio\, Italia;X-APPLE-RADIUS=100;X-TITLE=Cittaducale:geo:42.3864,12.9
 478
END:VEVENT
BEGIN:VTIMEZONE
TZID:Europe/Rome
X-LIC-LOCATION:Europe/Rome
BEGIN:DAYLIGHT
DTSTART:20250330T030000
TZOFFSETFROM:+0100
TZOFFSETTO:+0200
TZNAME:CEST
END:DAYLIGHT
END:VTIMEZONE
END:VCALENDAR