BEGIN:VCALENDAR
VERSION:2.0
PRODID:-//wp-events-plugin.com//7.2.3.1//EN
TZID:Europe/Rome
X-WR-TIMEZONE:Europe/Rome
BEGIN:VEVENT
UID:39150@lazioeventi.com
DTSTART;TZID=Europe/Rome:20250530T193000
DTEND;TZID=Europe/Rome:20250601T230000
DTSTAMP:20250522T155324Z
URL:https://lazioeventi.com/eventi/palio-dellanello
SUMMARY:Palio dell'Anello - Tarquinia - 30 Maggio 25 19:30
DESCRIPTION:Tarquinia festeggia le contrade del Palio dell’Anello\nDal 30
  maggio al 1° giugno\, tre giorni di eventi all’insegna della cultura\,
  del folclore e dello spettacolo\n \nTutto pronto a Tarquinia per uno degl
 i appuntamenti più attesi dell’anno: il Palio dell’Anello e la Rievoc
 azione Storica delle Contrade\, in programma dal 30 maggio al 1° giugno 2
 025. Tre giorni ricchi di eventi che animeranno la città etrusca all’in
 segna della cultura\, dello spettacolo e della passione per la tradizione.
  La manifestazione è promossa dal Comune di Tarquinia in collaborazione c
 on la Società Tarquiniense d'arte e storia\, la Pro loco Tarquinia\, l’
 Associazione Pro Tarquinia e l’Asd Palio dell’Anello – Tarquinia e h
 a il patrocinio della Regione Lazio\, della Provincia di Viterbo\, dell’
 Istituto Centrale Patrimonio Immateriale\, della Fitetrec Ante\, di Mediev
 al Italy e dell’Associazione Rievocazioni Storiche Lazio.\n \n"Con l'app
 rovazione del regolamento da parte del consiglio comunale\, nella seduta d
 el 30 aprile\, l’intero evento è stato formalmente riconosciuto come ma
 nifestazione identitaria della nostra città – dichiara il presidente de
 l consiglio comunale Alberto Blasi -. Si tratta di un passaggio importante
 \, che valorizza il legame profondo tra la comunità e le sue tradizioni\,
  e che conferisce all'iniziativa un ruolo centrale nel panorama culturale 
 di Tarquinia”.\n \nIl programma si aprirà venerdì 30 maggio\, alle 17:
 30\, nella sala consiliare del Palazzo Comunale\, con il convegno di prese
 ntazione dal titolo: “Identità e tradizione: le prospettive per il Pali
 o dell’Anello”\, un momento di confronto sul valore culturale dell’e
 vento. In serata\, alle 21:30\, in piazza Giacomo Matteotti\, si terrà la
  cerimonia del giuramento e la benedizione dei cavalieri\, seguita dallo s
 pettacolo del celebre Gruppo Storico Spadaccini di Soriano nel Cimino. Sab
 ato 31 maggio\, alle 18:30\, le vie e le piazze del centro storico saranno
  animate dal grande corteo storico\, con la partecipazione delle contrade 
 in abiti d’epoca e decine di figuranti\, in una rievocazione capace di i
 ncantare grandi e piccoli.\n \nIl momento più sentito arriverà domenica 
 1° giugno\, alle 16:00\, con lo svolgimento del Palio dell’Anello press
 o il campo sportivo “Giuseppe Cardoni”. I cavalieri delle 10 contrade 
 in gara si sfideranno in una prova di coraggio\, destrezza e abilità. A s
 eguire\, la sfilata di rientro dal campo sportivo al centro storico e\, al
 le 20:30 in piazza Cavour\, la cerimonia di premiazione ufficiale della co
 ntrada vincitrice\, tra applausi\, celebrazioni e un grande coinvolgimento
  popolare. 
ATTACH;FMTTYPE=image/jpeg:https://lazioeventi.com/wp-content/uploads/2024/
 05/Manifesto-Palio-dellAnello.jpg
CATEGORIES:Musica, Spettacoli e Danza nel Lazio,Sagre, Gastronomia e
 Tradizioni nel Lazio,Sport, Tempo Libero e Divertimento nel Lazio
LOCATION:Tarquinia\, Comune\, Tarquinia\, Viterbo\, Lazio\, Italia
GEO:42.2546;11.7584
X-APPLE-STRUCTURED-LOCATION;VALUE=URI;X-ADDRESS=Comune\, Tarquinia\, Viterb
 o\, Lazio\, Italia;X-APPLE-RADIUS=100;X-TITLE=Tarquinia:geo:42.2546,11.758
 4
END:VEVENT
BEGIN:VTIMEZONE
TZID:Europe/Rome
X-LIC-LOCATION:Europe/Rome
BEGIN:DAYLIGHT
DTSTART:20250330T030000
TZOFFSETFROM:+0100
TZOFFSETTO:+0200
TZNAME:CEST
END:DAYLIGHT
END:VTIMEZONE
END:VCALENDAR