BEGIN:VCALENDAR
VERSION:2.0
PRODID:-//wp-events-plugin.com//7.2.3.1//EN
TZID:Europe/Rome
X-WR-TIMEZONE:Europe/Rome
BEGIN:VEVENT
UID:42631@lazioeventi.com
DTSTART;TZID=Europe/Rome;VALUE=DATE:20251003
DTEND;TZID=Europe/Rome;VALUE=DATE:20251006
DTSTAMP:20251001T201945Z
URL:https://lazioeventi.com/eventi/palio-madonna-della-vittoria-sermoneta
SUMMARY:Palio "Madonna della Vittoria" Sermoneta - Sermoneta - 3 Ottobre 25
  00:00
DESCRIPTION:La ProLoco di Sermoneta Con il Patrocinio della Città di Sermo
 neta ed il contributo della Regione Lazio\n\nOrganizza il PALIO “Madonna
  della Vittoria” - 3 – 4 – 5 Ottobre 2025\n\nPROGRAMMA DELLE TRE GIO
 RNATE\n\nVenerdì 3 Ottobre 2025\n\nPalazzo Caetani – Centro Storico\n10
 .00 – 12.00\nCorso gratuito di acquerello con il maestro Fausto Suterà 
 (Studio d’Arte - Palermo).\nInfo e prenotazioni: Clementina 333 5697 752
 \n\nChiesa di San Michele Arcangelo – Centro Storico\n16.00\nInaugurazio
 ne della mostra dei drappi delle passate edizioni e del Palio Madonna dell
 a Vittoria.\nA seguire:\nInaugurazione della Quarta Edizione di Sermoneta 
 Rioni ad Acquerello a cura di Clementina Cotrè.\nPerformance dei Maestri 
 del colore:\n- Claudio Castiglioni (Accademico e Presidente onorario dell
 ’A.R.A. – Associazione Romana Acquerellisti)\n- Tonino Monaco (Socio O
 norario dell’A.R.A. – Associazione Romana Acquerellisti)\n- Fausto Sut
 erà (Studio d’Arte – Palermo)\n- Dario Angelotti (Illustratore ed art
 ista fumettista)\n- Piermaria Dalla Mura (Presidente dell’A.R.A. – Ass
 ociazione Romana Acquerellisti)\nIntrattenimento musicale a cura del Maest
 ro Massimiliano Romano\nDegustazione enogastronomica\n\nSabato 4 Ottobre 2
 025\n\nArea adiacente Ex Campo Sportivo – Centro Storico\n10.00 – 18.0
 0\nGiro su pony e cavalli con battesimo della sella\, a cura di INNEA Cent
 ro Equestre ASD.\n\nPalazzo Caetani – Centro Storico\n10.30\nInaugurazio
 ne e premiazione della mostra estemporanea fotografica a cura di Angela Co
 rbi.\nIntrattenimento musicale a cura di Massimiliano Falcioni.\n\nDegusta
 zione enogastronomica\n\nPer le vie del paese\n16.00 – 19.30\nSpettacolo
  itinerante della Compagnia Magma: Open spettacolo di fuoco e musica medie
 vale.\n\nChiesa di San Giuseppe – Centro Storico\n17.00\nCerimonia di be
 nedizione dei cavalli e cavalieri con Don Claudio Castiglioni.\n\nGiardino
  degli Aranci – Centro Storico\n19.30\nSpettacolo di fuoco e musica medi
 evale con l’Associazione “La Dramaturgie”.\n\nPiazza Santa Maria –
  Centro Storico\n20.00\nCena propiziatoria del Palio.\nInfo e prenotazioni
 : Angela 333 6022 903\n\nDomenica 5 Ottobre 2025\n\nArea adiacente Ex Camp
 o Sportivo – Centro Storico\n10.00 – 14.00\nGiro su pony e cavalli con
  battesimo della sella\, a cura di INNEA Centro Equestre ASD.\n\nLoggia de
 i Mercanti – Centro Storico\n10.30\nCorso gratuito di acquerello con il 
 maestro Fausto Suterà (Studio d’Arte - Palermo).\nInfo e prenotazioni: 
 Clementina 333 5697 752\n\nChiesa di San Michele Arcangelo – Centro Stor
 ico\n11.30\nConcerto di strumenti a fiato con il maestro Dante Angelotti.\
 n\nPer le vie del paese\n16.00 – 19.30\nSpettacolo itinerante della comp
 agnia teatrale “Teatrum et Historiae” con i fatti di Marco Pietro.\n\n
 Centro Storico di Sermoneta\n15.30 – 17.30\nCorteo storico in costume ri
 nascimentale dei Rioni di Sermoneta con musici\, sbandieratori\, dame e ca
 valieri.\n\nPalio “Madonna della Vittoria” – Centro Storico\n18.00\n
 Giostra della Quintana tra i Rioni di Sermoneta al campo sportivo.\nInfo: 
 Paolo 324 8821 981
ATTACH;FMTTYPE=image/jpeg:https://lazioeventi.com/wp-content/uploads/2025/
 10/palio-sermoneta.jpg
CATEGORIES:Arte e Cultura nel Lazio,Musica, Spettacoli e Danza nel
 Lazio,Sagre, Gastronomia e Tradizioni nel Lazio,Sport, Tempo Libero e
 Divertimento nel Lazio,Varie
LOCATION:Sermoneta\, Comune\, Sermoneta\, Latina\, Lazio\, Italia
GEO:41.5491;12.9853
X-APPLE-STRUCTURED-LOCATION;VALUE=URI;X-ADDRESS=Comune\, Sermoneta\, Latina
 \, Lazio\, Italia;X-APPLE-RADIUS=100;X-TITLE=Sermoneta:geo:41.5491,12.9853
END:VEVENT
BEGIN:VTIMEZONE
TZID:Europe/Rome
X-LIC-LOCATION:Europe/Rome
BEGIN:DAYLIGHT
DTSTART:20250330T030000
TZOFFSETFROM:+0100
TZOFFSETTO:+0200
TZNAME:CEST
END:DAYLIGHT
END:VTIMEZONE
END:VCALENDAR