BEGIN:VCALENDAR
VERSION:2.0
PRODID:-//wp-events-plugin.com//7.2.3.1//EN
TZID:Europe/Rome
X-WR-TIMEZONE:Europe/Rome
BEGIN:VEVENT
UID:34841@lazioeventi.com
DTSTART;TZID=Europe/Rome:20230417T203000
DTEND;TZID=Europe/Rome:20230417T220000
DTSTAMP:20230327T064455Z
URL:https://lazioeventi.com/eventi/pallida-madre-tenera-sorella-3
SUMMARY:Pallida madre\, tenera sorella - Roma - 17 Aprile 23 20:30
DESCRIPTION:Al Teatro Parioli\, il 3–5–17 e 19 aprile\, quattro serate 
 a ingresso libero all'insegna della drammaturgia tedesca moderna e contemp
 oranea con Pallida madre\, tenera sorella. \n\nIl format di letture scenic
 he è ideato dall'Associazione Culturale Zip Zone in collaborazione con l'
 Istituto Italiano di Studi Germanici. La supervisione artistica è a cura 
 di Piero Maccarinelli\, mentre la regia è affidata a Roberto Di Maio.\n\n
 \ningresso libero fino ad esaurimento posti\n\n\nDopo il successo delle pr
 ecedenti edizioni il format di letture sceniche\, ideato dall' Associazion
 e Culturale Zip Zone in collaborazione con l'Istituto Italiano di Studi Ge
 rmanici\, approda sul prestigioso palcoscenico del Teatro Parioli di Roma 
 per 4 serate uniche e a ingresso libero\, all'insegna della drammaturgia t
 edesca moderna e contemporanea che\, in questa edizione speciale\, sono le
 gate da un fil rouge tematico: quello del terrore\, del terrorismo in dive
 rse sue declinazioni.\n\nLa supervisione artistica è a cura di Piero Macc
 arinelli\, mentre la regia è affidata al regista Roberto Di Maio.\n\nSi p
 arte il 3 aprile da uno dei drammi di maggior successo degli ultimi anni\,
  Terror (2015) di Ferdinand von Schirach introdotto dal germanista Luca Cr
 escenzi\, presidente dell’Istituto Italiano di Studi germanici\, con la 
 partecipazione di Manuela Mandracchia\, Francesco Bonomo e Riccardo Floris
 . La scena è un tribunale\, dove si processa un maggiore dell’aviazione
  tedesca che\, contravvenendo agli ordini ricevuti\, abbatte un aereo con 
 164 passeggeri dirottato da un terrorista e sul punto abbattersi su uno st
 adio di calcio strapieno di tifosi. Alla fine il pubblico in sala è chiam
 ato a fungere da giuria\, perché la responsabilità del giudizio di un ca
 so del genere non può essere delegata a un individuo soltanto.\n\nLa seco
 nda serata è il 5 aprile: i giovani e promettenti attori provenienti dal 
 CSC\, Scuola Nazionale di Cinema di Roma\, interpretano Strage omicida\, u
 n gioco da ragazzi (2006) di Thomas Freyer che si ispira a un fatto reale 
 per raccontare la storia di adolescenti spaesati nella Germania est dopo l
 a caduta del Muro\, la loro disperazione\, il loro senso di impotenza di f
 ronte al conformismo dietro il quale genitori e insegnanti nascondono le c
 olpe del passato. E la loro rabbia repressa alla fine si tramuta in una fu
 ria omicida che segue il ritmo di una canzone rap e le movenze di un video
 gioco. La lettura è introdotta da Francesco Fiorentino\, e musicato da Ar
 ianna del Grosso alla consolle.\n\nIl 17 aprile Lorenzo Lavia interpreta u
 n testo di Max Frisch\, Il conte Öderland (1951)\, letto insieme ad Anton
 ella Britti\, Piero Cardano\, Federico Passi\, i giovani attori dell’Acc
 ademia Nazionale d’Arte Drammatica Silvio D’Amico e il chitarrista Mic
 helangelo Mugnai. Introduce Luca Crescenzi. Nel testo ritorna una furia om
 icida\, apparentemente senza ragioni. Un irreprensibile impiegato di banca
  uccide un usciere senza saper dire il perché. Un procuratore comprende l
 e ragioni dell’assassino a tal punto da imitarlo e andarsene in giro ucc
 idendo chiunque ostacoli il suo desiderio di essere libero. Un dramma sull
 a nostalgia inappagabile della libertà e sull’impossibilità della rivo
 lta.\n\nLa rassegna si chiude il 19 aprile con Leviathan (1993) di Dea Loh
 er\, letto da Silvia D’amico con Francesco La Mantia\, Federica Marchett
 ini\, i giovani allievi del CSC e introdotto da Francesco Fiorentino. Il t
 esto ci riporta più indietro nel tempo e con un linguaggio essenziale\, i
 ntenso e potente rievoca le ore drammatiche in cui Ulrike Meinhof prende l
 a decisione definitiva di abbandonare tutto – le figlie\, i riconoscimen
 ti\, il benessere – per darsi alla lotta armata e fondare la Roten Armee
  Fraktion\, uno dei gruppi terroristici più celebri del Novecento.\n\nIl 
 teatro contemporaneo di lingua tedesca offre un panorama vitalissimo\, att
 raversato da spinte creative\, passioni formali e riflessioni politiche mo
 lteplici\, che si intrecciano in modi spesso inaspettati e sempre coinvolg
 enti. Il Teatro Parioli ne offrirà uno spaccato attraverso quattro lettur
 e sceniche rivolte a professionisti\, appassionati di teatro e a chiunque 
 sia interessato a conoscere alcune delle voci più significative della dra
 mmaturgia contemporanea.\n\nPARCHEGGI CONVENZIONATI\nParioli Garage – Vi
 ale Parioli\,162     Tel. 06 8082380\nGarage Parioli 2000 – Viale Pariol
 i 11/c Tel. 06 8076188\nParking Locchi – Via Vittorio Locchi\, 15 Tel.06
  89134837 * chiude alle ore 21.00*domenica chiusi*
ATTACH;FMTTYPE=image/jpeg:https://lazioeventi.com/wp-content/uploads/2023/
 03/drammaturgia_tedesca_2.jpg
CATEGORIES:Arte e Cultura nel Lazio
LOCATION:Roma\, Via Leopardi\, Roma\, Roma\, Lazio\, Italia
GEO:41.8942;12.5017
X-APPLE-STRUCTURED-LOCATION;VALUE=URI;X-ADDRESS=Via Leopardi\, Roma\, Roma\
 , Lazio\, Italia;X-APPLE-RADIUS=100;X-TITLE=Roma:geo:41.8942,12.5017
END:VEVENT
BEGIN:VTIMEZONE
TZID:Europe/Rome
X-LIC-LOCATION:Europe/Rome
BEGIN:DAYLIGHT
DTSTART:20230326T030000
TZOFFSETFROM:+0100
TZOFFSETTO:+0200
TZNAME:CEST
END:DAYLIGHT
END:VTIMEZONE
END:VCALENDAR