BEGIN:VCALENDAR
VERSION:2.0
PRODID:-//wp-events-plugin.com//7.2.3.1//EN
TZID:Europe/Rome
X-WR-TIMEZONE:Europe/Rome
BEGIN:VEVENT
UID:33220@lazioeventi.com
DTSTART;TZID=Europe/Rome:20221216T090000
DTEND;TZID=Europe/Rome:20221218T220000
DTSTAMP:20221124T074539Z
URL:https://lazioeventi.com/eventi/panettone-e-bollicine
SUMMARY:Panettone e Bollicine - Guidonia Montecelio - 16 Dicembre 22 09:00
DESCRIPTION:Tre giorni di divertimento... per tutti!\n\nIn occasione delle 
 festività natalizie l'Associazione Koiné organizza una tre giorni all'in
 segna del divertimento per catapultarci nell'atmosfera del Natale.\n\nTrov
 erete:\n\n 	Spettacoli\n 	Villaggio di Natale\n 	Artisti di strada\n 	Stre
 et Food\n 	Luna Park\n\nIl tutto accompagnato dalla musica e dalle perform
 ance di: Sara Milani\, Nino Taranto\, Povia\, Le Storie di Luna e Gianluca
  Giugliarelli.
ATTACH;FMTTYPE=image/jpeg:https://lazioeventi.com/wp-content/uploads/2022/
 11/panettone-bollicine-guidonia.jpg
CATEGORIES:Sagre, Gastronomia e Tradizioni nel Lazio,Musica, Spettacoli e
 Danza nel Lazio
LOCATION:Guidonia Montecelio\, Comune\, Guidonia Montecelio\, Roma\, Lazio\
 , Italia
GEO:42;12.7264
X-APPLE-STRUCTURED-LOCATION;VALUE=URI;X-ADDRESS=Comune\, Guidonia Monteceli
 o\, Roma\, Lazio\, Italia;X-APPLE-RADIUS=100;X-TITLE=Guidonia Montecelio:g
 eo:42,12.7264
END:VEVENT
BEGIN:VTIMEZONE
TZID:Europe/Rome
X-LIC-LOCATION:Europe/Rome
BEGIN:STANDARD
DTSTART:20221030T020000
TZOFFSETFROM:+0200
TZOFFSETTO:+0100
TZNAME:CET
END:STANDARD
END:VTIMEZONE
END:VCALENDAR