BEGIN:VCALENDAR
VERSION:2.0
PRODID:-//wp-events-plugin.com//7.2.3.1//EN
TZID:Europe/Rome
X-WR-TIMEZONE:Europe/Rome
BEGIN:VEVENT
UID:30454@lazioeventi.com
DTSTART;TZID=Europe/Rome:20220421T150000
DTEND;TZID=Europe/Rome:20220429T190000
DTSTAMP:20220411T133706Z
URL:https://lazioeventi.com/eventi/paola-salome-la-gioia-di-vivere-a-color
 i-galleria-la-pigna
SUMMARY:Paola Salomè La Gioia di vivere a Colori Galleria La Pigna - Roma 
 - 21 Aprile 22 15:00
DESCRIPTION:Si inaugura a Roma il 21 Aprile alle ore 17 presso la Galleria 
 La Pigna\, nel prestigioso Palazzo Maffei Marescotti via della Pigna 13\, 
 l’esposizione dell’artista Paola Salomè\, intitolata “La Gioia di V
 ivere a Colori” che ha l’obiettivo di trasmettere al pubblico un messa
 ggio di positività e amore per la natura e la vita in un momento storico 
 segnato da vicende tristi e dolorose. L’artista ha trasformato un period
 o negativo come è stato per molti il lockdown in un periodo positivo e ri
 cco di fermento artistico\n\nL'esposizione di Paola Salomè vuole essere u
 no spunto per risvegliare quegli animi intorpiditi dal grigio dei giorni c
 he abbiamo vissuto con l’avvento della pandemia e che tutt’oggi tendon
 o ad incupirci a causa della guerra: la vivacità dei colori\, la fluidit
 à delle linee\, il senso di libertà che queste opere emanano attraverso 
 le ampie campiture di grande respiro\, esprimono una magia delicata attrav
 erso la quale ognuno di noi può trovare un senso di pacificazione e di ar
 monia con l’universo. “L'amore per ogni istante della vita mi porta ad
  esprimere con passione sentimenti ed emozioni. Ed è così che vorrei fos
 se vissuta la mia arte... assaporando intensamente il profumo dei miei col
 ori.” (Cit. Paola Salomè)\n\n“Le mie opere riflettono la gioia di viv
 ere partenopea\, con colori come il giallo che trasmette luce\, il verde d
 ella natura\, l’azzurro del mare… Le mie opere nascono dagli stati d
 ’animo. Cerco di rappresentare l’amore verso tutto\, verso la vita\, l
 a famiglia\, i figli.”\n\nLa mostra è curata da Leonarda Zappulla criti
 co e storico dell’arte: “Il linguaggio pittorico di Paola Salomè trae
  ispirazione dalla realtà\, rivelando il vivo desiderio dell’artista di
  rappresentare la natura irradiata dalla luce della vita. Dalla visione de
 i suoi dipinti emerge una folgorante energia positiva: l’uso di cromie b
 rillanti e intense caratterizza la sua produzione\, costituita da opere in
  cui il dato reale è solo un punto di partenza da cui sconfinare per dare
  libera espressione all’estro creativo\, che permette all’autrice di r
 appresentare il vero in maniera spontanea ed istintiva assolutamente sua e
  immediatamente riconoscibile”.\n\n“A partire dall’impostazione colo
 ristica sino a giungere a quella spaziale\, le opere della Salomè sono es
 empi di una ricerca stilistica volta a raffinare il tratto\, con lo scopo 
 di dar vita ad un linguaggio essenziale dato per sovrapposizioni che riman
 dano all’arte pop ma con un’accezione romantica del tutto italiana. Co
 n consapevolezza l’artista dà ritmo alle opere seguendo il flusso della
  sua immaginazione e delle proprie emozioni\, lontana da stilemi o accadem
 ismi. Hanno così origine opere in cui le forme essenziali vengono cristal
 lizzate in un’atmosfera sognante: realtà e fantasia non sono entità co
 ntraddittorie\, bensì coordinate e coesistenti.”\n\nTra le opere prefer
 ite dell’artista: “Infiammarsi” è una tela che si trova nella Galle
 ria di via Margutta a Roma e che è stata scelta anche per il Carrousel du
  Louvre a Parigi… Con quest’opera ha voluto creare una bellezza che il
 lumina\, nonostante il periodo buio che stiamo vivendo. Ha voluto rapprese
 ntare una sfera di fuoco vivissimo che resiste nonostante il mare freddo i
 ntorno. Poi abbiamo “Il sogno”\, opera esposta alla fiera di Ferrara a
 mmessa al premio Vittorio Sgarbi e l’opera “La vita”\, un politico m
 aestoso dall’aura coinvolgente\, e “La luce della vita”\, in cui è 
 espressa tutta la poetica dell’artista.\n\nPaola Salomè fa parte del pr
 ogetto I Narratori del Nostro tempo commentate da Vittorio Sgarbi\, nel qu
 ale il noto critico ha commentato la sua opera affermando: “Paola Salom
 è è un’artista post naïf\, questo vuol dire che la sua naïveté non 
 appartiene ad un filone\, ad un genere che è quello della favola\, quello
  del racconto di un luogo dove tutto è come nel mondo infantile […] Ecc
 o allora i suoi riferimenti a Chagall\, a Gauguin\, a Kandinskij\, che son
 o classici moderni che non impongono regole\, misure e mestiere\, ma sempl
 icemente stati d’animo espressi con una grande purezza” (cit. Prof. Vi
 ttorio Sgarbi).\n\nLa Gioia di vivere a Colori personale di Paola Salomè\
 , sarà visitabile alla Galleria La Pigna - Palazzo Maffei Marescotti\, Vi
 a della Pigna 13 - Roma dal 22 al 29 aprile 2022 con i seguenti orari: dal
 le 15:00 alle 19:00 (lun. - ven.) sabato dalle 10:00 alle 13:00. Vernissag
 e esclusivamente su invito giovedì 21 aprile dalle 17:00 alle 20:00.
ATTACH;FMTTYPE=image/jpeg:https://lazioeventi.com/wp-content/uploads/2022/
 04/Il-sogno-Olio-su-tela-cm-70x60-1.jpg
CATEGORIES:Arte e Cultura nel Lazio
LOCATION:Roma\, Via Leopardi\, Roma\, Roma\, Lazio\, Italia
GEO:41.8942;12.5017
X-APPLE-STRUCTURED-LOCATION;VALUE=URI;X-ADDRESS=Via Leopardi\, Roma\, Roma\
 , Lazio\, Italia;X-APPLE-RADIUS=100;X-TITLE=Roma:geo:41.8942,12.5017
END:VEVENT
BEGIN:VTIMEZONE
TZID:Europe/Rome
X-LIC-LOCATION:Europe/Rome
BEGIN:DAYLIGHT
DTSTART:20220327T030000
TZOFFSETFROM:+0100
TZOFFSETTO:+0200
TZNAME:CEST
END:DAYLIGHT
END:VTIMEZONE
END:VCALENDAR