BEGIN:VCALENDAR
VERSION:2.0
PRODID:-//wp-events-plugin.com//7.2.3.1//EN
TZID:Europe/Rome
X-WR-TIMEZONE:Europe/Rome
BEGIN:VEVENT
UID:38899@lazioeventi.com
DTSTART;TZID=Europe/Rome:20240421T103000
DTEND;TZID=Europe/Rome:20240421T120000
DTSTAMP:20240406T162002Z
URL:https://lazioeventi.com/eventi/parco-archeologico-di-veio-e-santuario-
 etrusco-a-portonaccio
SUMMARY:Parco Archeologico di Veio e Santuario Etrusco a Portonaccio - Roma
  - 21 Aprile 24 10:30
DESCRIPTION:Una visita guidata per andare insieme alla scoperta dell’area
  archeologica più suggestiva del Parco Regionale dell’antica città di 
 Veio. E’ qui infatti che sarà possibile andare insieme alla scoperta de
 ll’affascinante storia di uno dei santuari etruschi più importanti tra 
 quelli oggi noti\, custode del più antico e notevole esempio di tempio tu
 scanico finora conosciuto! Posto immediatamente al di fuori dell’antica 
 cinta urbana\, il santuario era ornato originariamente da una splendida de
 corazione in terracotta policroma ed impreziosito ulteriormente da una ser
 ie di statue a grandezza maggiore del vero\, tra le quali il celebre grupp
 o tardo-arcaico di Apollo ed Ercole. Insomma\, una visita guidata\, tra na
 tura e archeologia\, piena di continue e straordinarie sorprese a cui è i
 mpossibile mancare: ti aspettiamo!\n\n&nbsp\;\n\nQuando: Domenica 21 April
 e 2024 ore 10:30\n\nAppuntamento in Via Riserva Campetti\, all’ingresso 
 del Parco Archeologico di Veio\n\nCosti: €12 a persona (ingresso gratuit
 o per tutti). Prenotazione obbligatoria.\n\nInfo e prenotazioni: L’Asino
  d’Oro Associazione Culturale | 346 5920077 | info@lasinodoro.it
ATTACH;FMTTYPE=image/jpeg:https://lazioeventi.com/wp-content/uploads/2024/
 04/Veio.jpg
CATEGORIES:Arte e Cultura nel Lazio,Sport, Tempo Libero e Divertimento nel
 Lazio
LOCATION:Roma\, Via Leopardi\, Roma\, Roma\, Lazio\, Italia
GEO:41.8942;12.5017
X-APPLE-STRUCTURED-LOCATION;VALUE=URI;X-ADDRESS=Via Leopardi\, Roma\, Roma\
 , Lazio\, Italia;X-APPLE-RADIUS=100;X-TITLE=Roma:geo:41.8942,12.5017
END:VEVENT
BEGIN:VTIMEZONE
TZID:Europe/Rome
X-LIC-LOCATION:Europe/Rome
BEGIN:DAYLIGHT
DTSTART:20240331T030000
TZOFFSETFROM:+0100
TZOFFSETTO:+0200
TZNAME:CEST
END:DAYLIGHT
END:VTIMEZONE
END:VCALENDAR