BEGIN:VCALENDAR
VERSION:2.0
PRODID:-//wp-events-plugin.com//7.2.3.1//EN
TZID:Europe/Rome
X-WR-TIMEZONE:Europe/Rome
BEGIN:VEVENT
UID:44294@lazioeventi.com
DTSTART;TZID=Europe/Rome:20260529T180000
DTEND;TZID=Europe/Rome:20260604T203000
DTSTAMP:20260423T162736Z
URL:https://lazioeventi.com/eventi/parigi-14-anni-in-9-emozioni
SUMMARY:Parigi: 14 anni in 9 emozioni - Roma - 29 Maggio 26 18:00
DESCRIPTION:Dal 29 maggio al 4 giugno 2026\, Medina Art Gallery presenta la
  mostra fotografica Parigi: 14 anni in 9 emozioni di Antonella Corso\, in 
 Via Merulana 220\, Roma. L’evento di apertura si terrà venerdì 29 magg
 io\, alle ore 18:00\, presso la galleria con la presentazione della dott.s
 sa Mariacarmela Mazzeo.\n\nCon Parigi: 14 anni in 9 emozioni\, Antonella C
 orso presenta un progetto fotografico che si sviluppa come racconto autobi
 ografico e al tempo stesso come esplorazione universale della memoria\,\nd
 ell’identità e della trasformazione emotiva. Il lavoro nasce da un lung
 o periodo vissuto a Parigi tra il 2003 e il 2017\, durante il quale l’ar
 tista ha intrecciato la propria esperienza personale con il\ntessuto urban
 o e simbolico della capitale francese.\n\nLa pratica fotografica di Corso 
 si fonda su uno sguardo intimo e continuo\, capace di trasformare luoghi i
 conici in spazi interiori. Le sue immagini non documentano semplicemente l
 a città\, ma ne\nrestituiscono una dimensione vissuta\, in cui architettu
 re\, luci e paesaggi diventano depositi di emozioni e ricordi. La Tour Eif
 fel\, la Senna\, i giardini e le piazze parigine emergono come presenze\nr
 icorrenti\, attraversate da esperienze quotidiane e momenti di forte inten
 sità emotiva. La mostra si articola in nove nuclei tematici — Celebrazi
 one\, Sogno\, Scoperta\, Stupore\, Malinconia\, Paura\,\nLutto\, Fascino d
 el caos ed Essenziale — che costruiscono una mappa affettiva più che cr
 onologica.\n\nOgni sezione rappresenta una diversa modalità di percezione
  della città\, riflettendo stati d’animo che vanno dalla meraviglia all
 a perdita\, fino alla ricostruzione di un equilibrio interiore.\n\nPartico
 larmente significativa è la presenza di immagini legate agli eventi del 2
 015\, che introducono una riflessione sulla fragilità e sulla resilienza 
 collettiva. In questo contesto\, la città diventa teatro di una tensione 
 emotiva condivisa\, ma anche spazio di resistenza e rinascita.\n\nAttraver
 so un linguaggio visivo diretto e poetico\, Antonella Corso costruisce un 
 racconto per immagini in cui il personale si apre a una dimensione univers
 ale. Lo spettatore è invitato a entrare\nin relazione con le opere\, rico
 noscendo nelle fotografie tracce della propria esperienza. Allestita press
 o Medina Art Gallery a Roma\, la mostra si configura come un percorso imme
 rsivo e riflessivo\,\nche accompagna il visitatore verso una dimensione es
 senziale fatta di memoria\, consapevolezza e sguardo interiore.
ATTACH;FMTTYPE=image/jpeg:https://lazioeventi.com/wp-content/uploads/2026/
 04/Poster-Antonella-Corso-2.jpg
CATEGORIES:Arte e Cultura nel Lazio
LOCATION:Roma\, Via Leopardi\, Roma\, Roma\, Lazio\, Italia
GEO:41.8942;12.5017
X-APPLE-STRUCTURED-LOCATION;VALUE=URI;X-ADDRESS=Via Leopardi\, Roma\, Roma\
 , Lazio\, Italia;X-APPLE-RADIUS=100;X-TITLE=Roma:geo:41.8942,12.5017
END:VEVENT
BEGIN:VTIMEZONE
TZID:Europe/Rome
X-LIC-LOCATION:Europe/Rome
BEGIN:DAYLIGHT
DTSTART:20260329T030000
TZOFFSETFROM:+0100
TZOFFSETTO:+0200
TZNAME:CEST
END:DAYLIGHT
END:VTIMEZONE
END:VCALENDAR