BEGIN:VCALENDAR
VERSION:2.0
PRODID:-//wp-events-plugin.com//7.2.3.1//EN
TZID:Europe/Rome
X-WR-TIMEZONE:Europe/Rome
BEGIN:VEVENT
UID:40963@lazioeventi.com
DTSTART;TZID=Europe/Rome:20250321T193000
DTEND;TZID=Europe/Rome:20250321T220000
DTSTAMP:20250318T075143Z
URL:https://lazioeventi.com/eventi/parole-e-musiche-di-montagna
SUMMARY:Parole e musiche di montagna - Roma - 21 Marzo 25 19:30
DESCRIPTION:Edizioni il Lupo e Alta Quota Store organizzano una serata di p
 arole e musica ad invito per venerdì 21 marzo\, ore 19:30.\n\nUn incontro
  sull’oralità che sposa il tema della natura\, dell’ambiente\, degli 
 spazi montani\, tutto sul filo delle parole\, della narrazione\, dell’in
 terpretazione\, delle emozioni\, dei ricordi\n\n\nUno storytelling a tema 
 per incontrarci ed ascoltarci in uno spazio iconico: il negozio di Frances
 ca e Massimo (nella parte alta circondati da zaini\, scarponi e giacche a 
 vento).\n\nChi lo desidera può iscriversi secondo la propria ispirazione\
 , per raccontarci un’avventura\, una storia\, sua o di altri\, anche di 
 fantasia\, o leggere quella pagina dell’anima del suo autore preferito p
 er regalarci un’emozione. La serata avrà anche brevi pause musicali pro
 poste dalla regia\, con gli intermezzi musicali di Antonio Acunzo.\n\nOgni
  intervento sarà di 6 minuti per un massimo di 12 proposte.\n\nNon ci son
 o classifiche\, solo applausi\, ascolti attenti e partecipati\, tanta grat
 itudine a chi si metterà in gioco per la buona riuscita della serata.\n\n
 Attendiamo le vostre adesioni comunicando nome e cognome\, genere e tema d
 ell’intervento per predisporre una scaletta per il pubblico che sarete v
 oi e altre 50 persone.\n\nAttendiamo speranzosi le vostre idee per mail a 
 info@edizioniillupo.it nel periodo dal 7 al 15 marzo altre info  a info@al
 taquotastore.com .\n\n\nChi invece vorrà partecipare come pubblico deve s
 egnalare tassativamente la propria presenza dal 15 marzo al 20 marzo per m
 otivi ovvi di spazio.\n\nLuogo dell’evento Alta Quota Store Via Benzoni 
 37 a 100 metri da metro Garbatella.\nDurata serata circa 90 minuti. Brindi
 si finale.\n\nIdeatore e coordinatore dell’evento Carlo Coronati c.coron
 ati@libero.it
ATTACH;FMTTYPE=image/jpeg:https://lazioeventi.com/wp-content/uploads/2025/
 03/parole-e-musiche.jpg
CATEGORIES:Arte e Cultura nel Lazio,Varie
LOCATION:Roma\, Via Leopardi\, Roma\, Roma\, Lazio\, Italia
GEO:41.8942;12.5017
X-APPLE-STRUCTURED-LOCATION;VALUE=URI;X-ADDRESS=Via Leopardi\, Roma\, Roma\
 , Lazio\, Italia;X-APPLE-RADIUS=100;X-TITLE=Roma:geo:41.8942,12.5017
END:VEVENT
BEGIN:VTIMEZONE
TZID:Europe/Rome
X-LIC-LOCATION:Europe/Rome
BEGIN:STANDARD
DTSTART:20241027T020000
TZOFFSETFROM:+0200
TZOFFSETTO:+0100
TZNAME:CET
END:STANDARD
END:VTIMEZONE
END:VCALENDAR