BEGIN:VCALENDAR
VERSION:2.0
PRODID:-//wp-events-plugin.com//7.2.3.1//EN
TZID:Europe/Rome
X-WR-TIMEZONE:Europe/Rome
BEGIN:VEVENT
UID:39105@lazioeventi.com
DTSTART;TZID=Europe/Rome:20240713T213000
DTEND;TZID=Europe/Rome:20240713T230000
DTSTAMP:20240510T084931Z
URL:https://lazioeventi.com/eventi/partenopleiadi
SUMMARY:Partenopleiadi - Terracina - 13 Luglio 24 21:30
DESCRIPTION:Prima edizione del Festival delle arti performative Regina Thea
 tri. \n\nIdeato e curato da Gemma Marigliani\, il progetto nasce come luog
 o fisico e virtuale di promozione e sensibilizzazione del patrimonio cultu
 rale e artistico lungo il percorso della Via Appia e\, in particolare\, ne
 lla città di Terracina che accoglie un importante tratto della Regina Via
 rum\, dove insistono siti archeologici unici nel loro genere\, uno fra tut
 ti il teatro Romano del I secolo A.C.\n\nIl momento di rinascita che sta v
 ivendo la comunità di Terracina grazie non solo al sorprendente disvelame
 nto del Teatro\, ma anche alla candidatura della Via Appia quale patrimoni
 o dell’Unesco\, viene arricchito dal sostegno delle istituzioni nazional
 i – in particolare dalla Regione Lazio – che ha accolto la proposta de
 l Progetto culturale Regina Theatri\, il cui programma si articolerà in n
 . 10 eventi che si svolgeranno negli scenografici luoghi del centro storic
 o e che vedranno coinvolti operatori culturali del territorio nazionale ca
 paci di intercettare le più diverse esigenze del pubblico.\n\nL'apertura 
 del Festival – sabato 27 aprile – nella suggestiva cornice della Chies
 a del Purgatorio sarà impreziosita dallo spettacolo teatrale Dante (in)Ca
 nti infernali di e con Barbara Amodio\, proseguirà con “I Digiuni di Ca
 tarina da Siena” scritto e diretto da Dacia Maraini. Il percorso cultura
 le poi si snoderà attraverso passeggiate poetiche\, performance di alto t
 alento musicale con il violinista Vincenzo Bolognese e di straordinaria br
 illantezza con artisti la cui riconosciuta bravura è applaudita nei tanti
  teatri del territorio nazionale\, per concludersi a settembre\, dopo aver
  attraversato un ricco registro dalla prosa alla musica classica al repert
 orio tradizionale\, con lo spettacolo “Flow signs”\, un progetto speri
 mentale dedicato al percorso dell’Appia che nasce dall’incontro di lin
 guaggi artistici diversi.\n\nINGRESSO GRATUITO.\nPrenotazione obbligatoria
 .
ATTACH;FMTTYPE=image/jpeg:https://lazioeventi.com/wp-content/uploads/2024/
 05/festival-arti-terracina.jpg
CATEGORIES:Musica, Spettacoli e Danza nel Lazio
LOCATION:Terracina\, Comune\, Terracina\, Latina\, Lazio\, Italia
GEO:41.2912;13.2492
X-APPLE-STRUCTURED-LOCATION;VALUE=URI;X-ADDRESS=Comune\, Terracina\, Latina
 \, Lazio\, Italia;X-APPLE-RADIUS=100;X-TITLE=Terracina:geo:41.2912,13.2492
END:VEVENT
BEGIN:VTIMEZONE
TZID:Europe/Rome
X-LIC-LOCATION:Europe/Rome
BEGIN:DAYLIGHT
DTSTART:20240331T030000
TZOFFSETFROM:+0100
TZOFFSETTO:+0200
TZNAME:CEST
END:DAYLIGHT
END:VTIMEZONE
END:VCALENDAR