BEGIN:VCALENDAR
VERSION:2.0
PRODID:-//wp-events-plugin.com//7.2.3.1//EN
TZID:Europe/Rome
X-WR-TIMEZONE:Europe/Rome
BEGIN:VEVENT
UID:30395@lazioeventi.com
DTSTART;VALUE=DATE:20250418
DTEND;VALUE=DATE:20250422
DTSTAMP:20250303T104758Z
URL:https://lazioeventi.com/eventi/pasqua-con-giotto
SUMMARY:Pasqua con Giotto - Boville Ernica - 18 Aprile 25 00:00
DESCRIPTION:Torna Pasqua con Giotto l’evento artistico-culturale che orm
 ai caratterizza Boville Ernica da venti anni.\n\nÈ tutto pronto\, infatti
 \, per la XX edizione 2025 \, nel cui contesto si svolgerà anche la cerim
 onia per l’assegnazione del Premio Giotto\, giunta alla sua XII edizione
 .\n\nLa manifestazione\, organizzata dal Comune\, si svolgerà nel centro 
 storico (che è anche uno dei Borghi più Belli d’Italia) con tanti appu
 ntamenti\, visite guidate e iniziative per la valorizzazione dell’artigi
 anato e della tradizione locale.\n\nVisite guidate con le Guide Cicerone a
 l Mosaico di Giotto.
ATTACH;FMTTYPE=image/jpeg:https://lazioeventi.com/wp-content/uploads/2023/
 04/pasqua_giotto2025.webp
CATEGORIES:Arte e Cultura nel Lazio
LOCATION:Boville Ernica\, Comune\, Boville Ernica\, Frosinone\, Lazio\, Ita
 lia
GEO:41.643;13.4708
X-APPLE-STRUCTURED-LOCATION;VALUE=URI;X-ADDRESS=Comune\, Boville Ernica\, F
 rosinone\, Lazio\, Italia;X-APPLE-RADIUS=100;X-TITLE=Boville Ernica:geo:41
 .643,13.4708
END:VEVENT
END:VCALENDAR