BEGIN:VCALENDAR
VERSION:2.0
PRODID:-//wp-events-plugin.com//7.2.3.1//EN
TZID:Europe/Rome
X-WR-TIMEZONE:Europe/Rome
BEGIN:VEVENT
UID:30556@lazioeventi.com
DTSTART;TZID=Europe/Rome:20220418T160000
DTEND;TZID=Europe/Rome:20220418T180000
DTSTAMP:20220415T205017Z
URL:https://lazioeventi.com/eventi/pasquetta-archeologica
SUMMARY:Pasquetta Archeologica - Corchiano - 18 Aprile 22 16:00
DESCRIPTION:Pasquetta “ archeologica” col GAR a Corchiano.\n\nVisita gu
 idata gratuita agli scavi di San Giovenale.
ATTACH;FMTTYPE=image/jpeg:https://lazioeventi.com/wp-content/uploads/2022/
 04/pasquetta-archeologica.jpg
CATEGORIES:Arte e Cultura nel Lazio
LOCATION:Corchiano\, Comune di Corchiano\, Corchiano\, Viterbo\, Lazio\, It
 alia
GEO:42.4187;12.3471
X-APPLE-STRUCTURED-LOCATION;VALUE=URI;X-ADDRESS=Comune di Corchiano\, Corch
 iano\, Viterbo\, Lazio\, Italia;X-APPLE-RADIUS=100;X-TITLE=Corchiano:geo:4
 2.4187,12.3471
END:VEVENT
BEGIN:VTIMEZONE
TZID:Europe/Rome
X-LIC-LOCATION:Europe/Rome
BEGIN:DAYLIGHT
DTSTART:20220327T030000
TZOFFSETFROM:+0100
TZOFFSETTO:+0200
TZNAME:CEST
END:DAYLIGHT
END:VTIMEZONE
END:VCALENDAR