BEGIN:VCALENDAR
VERSION:2.0
PRODID:-//wp-events-plugin.com//7.2.3.1//EN
TZID:Europe/Rome
X-WR-TIMEZONE:Europe/Rome
BEGIN:VEVENT
UID:36748@lazioeventi.com
DTSTART;TZID=Europe/Rome:20230827T183000
DTEND;TZID=Europe/Rome:20230827T200000
DTSTAMP:20230823T211317Z
URL:https://lazioeventi.com/eventi/passeggiata-nel-rione-trastevere
SUMMARY:Passeggiata nel Rione Trastevere - Roma - 27 Agosto 23 18:30
DESCRIPTION:Passeggiata nel Rione Trastevere e tramonto all'isola Tiberina\
 n\nl Rione Trastevere è il quartiere che più di altri conserva il suo as
 petto medievale tra vicoli stretti\, archi ed edifici. Una storia che dall
 ’antica Roma ai giorni nostri ci parla di un quartiere dall’animo popo
 lare ieri come oggi. Finiremo la visita con un Tramonto Romantico all’Is
 ola Tiberina!\n\nhttps://www.romanitas.it/calendario-visite-guidate/?event
 =3175\n\nINFO\nQuando: Domenica 27 Agosto 2023 h 18:30\nDurata: 1 ora e me
 zza circa\nAccoglienza: dalle 18:15 Piazza Gioacchino Belli sotto la Torre
  degli Anguillara h. 18.15\nTariffa: €15\,00 tutto incluso\n\nPrenotazio
 ne almeno il giorno prima con una mail a visiteguidate@romanitas.it\noppur
 e con un sms/WA a Cristiana 3315632913\nLa Prenotazione è necessaria per 
 ricevere conferma o eventuali variazioni e per sapere se ci sono ancora po
 sti.
ATTACH;FMTTYPE=image/jpeg:https://lazioeventi.com/wp-content/uploads/2023/
 08/Trast-sinagoga-1280x1707-1.jpg
CATEGORIES:Arte e Cultura nel Lazio,Sport, Tempo Libero e Divertimento nel
 Lazio
LOCATION:Roma\, Via Leopardi\, Roma\, Roma\, Lazio\, Italia
GEO:41.8942;12.5017
X-APPLE-STRUCTURED-LOCATION;VALUE=URI;X-ADDRESS=Via Leopardi\, Roma\, Roma\
 , Lazio\, Italia;X-APPLE-RADIUS=100;X-TITLE=Roma:geo:41.8942,12.5017
END:VEVENT
BEGIN:VTIMEZONE
TZID:Europe/Rome
X-LIC-LOCATION:Europe/Rome
BEGIN:DAYLIGHT
DTSTART:20230326T030000
TZOFFSETFROM:+0100
TZOFFSETTO:+0200
TZNAME:CEST
END:DAYLIGHT
END:VTIMEZONE
END:VCALENDAR