BEGIN:VCALENDAR
VERSION:2.0
PRODID:-//wp-events-plugin.com//7.2.3.1//EN
TZID:Europe/Rome
X-WR-TIMEZONE:Europe/Rome
BEGIN:VEVENT
UID:41307@lazioeventi.com
DTSTART;TZID=Europe/Rome:20250601T160000
DTEND;TZID=Europe/Rome:20250601T190000
DTSTAMP:20250422T152807Z
URL:https://lazioeventi.com/eventi/passeggiata-poetica-e-spettacolo
SUMMARY:Passeggiata poetica e spettacolo - Terracina - 1 Giugno 25 16:00
DESCRIPTION:Torna a Terracina ail Festival delle Arti Performative "Regina 
 Theatri – Reminiscenze”\, la seconda edizione organizzata dal Comune c
 he si propone di celebrare la Via Appia Patrimonio Unesco e di valorizzare
  ed esaltare gli straordinari luoghi storici della Città. Dopo il grande 
 successo e la grande partecipazione della passata edizione\, torna un nuov
 o e ricco calendario di eventi che vedrà protagonista l’Arte in tutte l
 e sue forme\, dal teatro alla musica passando per la poesia\, negli straor
 dinari scenari dei luoghi della storia di Terracina: dal Foro Emiliano al 
 Tempio di Giove Anxur al Complesso Monumentale di San Domenico passando pe
 r la Regina Viarum. Nove appuntamenti fino a luglio inoltrato come sempre 
 gratuiti e aperti a tutti.\n\nIl primo evento è in programma sabato 19 ap
 rile alle 21 presso il Complesso Monumentale di San Domenico con poesie\, 
 musiche e voce\, “Cantare nel deserto”. \nNello stesso ex convento ci 
 saranno lo spettacolo “Viva Maria”\, sabato 10 maggio\, e “50 ... or
 e. Canto di una Mamma Ciociara” domenica 25 maggio. \nUna passeggiata po
 etica al Tempio di Giove Anxur è invece la quarta tappa\, fissata per il 
 1 giugno\, che sarà seguita dallo spettacolo “Paolo dei Lupi”\, che t
 rae ispirazione dalla vita del biologo e poeta Paolo Barrasso. \nIl 7 giug
 no invece Piazza Municipio sarà il palcoscenico di “Adriano sono io”\
 , tratto dalle Memorie di Adriano di Marguerite Yourcenar.\nGli ultimi app
 untamenti il 25 giugno con “Prima della Tempesta”\, il 4 luglio con 
 “Fino alle stelle”\, il 12 luglio con “Number one” e il 18 luglio 
 con “Pazzo ad arte” ancora tra il Complesso di San Domenico e il Cuore
  del Centro Storico Alto di Terracina.\n\nIl programma\, la cui esecuzione
  sarà curata da Officina Zero\, vede la direzione artistica di Gemma Mari
 gliani.\n\n«Ho fortemente voluto che la nostra Amministrazione ripropones
 se questo progetto considerato il grande riscontro della passata edizione\
 , e ringrazio gli Uffici Cultura per il grande lavoro fatto. La nostra pri
 orità da sempre è la promozione e la valorizzazione del nostro immenso p
 atrimonio che deve essere fruibile e aperto a tutti. Gli eventi proposti i
 n questo Festival hanno sicuramente un elevato spessore artistico\, che co
 ntribuisce in modo significativo alla promozione culturale della nostra Ci
 ttà. Non è soltanto un’opportunità per il turismo della nostra Comuni
 tà\, ma anche per rafforzare la nostra identità culturale e storica\, pe
 r questo invito tutti a partecipare»\, ha dichiarato l’Assessore alla C
 ultura e al Turismo Alessandra Feudi.\n\n«Sono ben lieto che il Festival 
 Regina Theatri sia arrivato a questa seconda edizione\, con il pieno soste
 gno del Comune di Terracina\, e ringrazio tutti quelli che hanno lavorato 
 per il raggiungimento di questo obiettivo. La nostra Città ha ricchezze u
 niche e invidiabili\, e metterle a sistema resta una priorità\, rendendol
 e ancora più preziose con le iniziative proposte\, che sicuramente contri
 buiscono anche a creare un senso di appartenenza e partecipazione attiva»
 \, ha dichiarato il Sindaco di Terracina\, Francesco Giannetti.\n\nINGRESS
 O GRATUITO.\nPrenotazione obbligatoria.
ATTACH;FMTTYPE=image/jpeg:https://lazioeventi.com/wp-content/uploads/2024/
 05/REGINA-THEATRI-LOCANDINA.jpg
CATEGORIES:Musica, Spettacoli e Danza nel Lazio,Sport, Tempo Libero e
 Divertimento nel Lazio
LOCATION:Terracina\, Comune\, Terracina\, Latina\, Lazio\, Italia
GEO:41.2912;13.2492
X-APPLE-STRUCTURED-LOCATION;VALUE=URI;X-ADDRESS=Comune\, Terracina\, Latina
 \, Lazio\, Italia;X-APPLE-RADIUS=100;X-TITLE=Terracina:geo:41.2912,13.2492
END:VEVENT
BEGIN:VTIMEZONE
TZID:Europe/Rome
X-LIC-LOCATION:Europe/Rome
BEGIN:DAYLIGHT
DTSTART:20250330T030000
TZOFFSETFROM:+0100
TZOFFSETTO:+0200
TZNAME:CEST
END:DAYLIGHT
END:VTIMEZONE
END:VCALENDAR