BEGIN:VCALENDAR
VERSION:2.0
PRODID:-//wp-events-plugin.com//7.2.3.1//EN
TZID:Europe/Rome
X-WR-TIMEZONE:Europe/Rome
BEGIN:VEVENT
UID:32409@lazioeventi.com
DTSTART;TZID=Europe/Rome;VALUE=DATE:20220926
DTEND;TZID=Europe/Rome;VALUE=DATE:20221107
DTSTAMP:20220921T075002Z
URL:https://lazioeventi.com/eventi/passio-christi-2
SUMMARY:Passio Christi - Montefiascone - 26 Settembre 22 00:00
DESCRIPTION:“Passio Christi”\, l’arte di Sidival Fila in mostra nella
  basilica superiore di San Flaviano a Montefiascone\nOrganizzata dall’As
 sociazione Rocca dei Papi per un’ecologia integrale e dalla Fondazione S
 idival Fila\, l’esposizione verrà inaugurata giovedì 29 settembre\, al
 le 17\, e sarà visitabile fino al 6 novembre\n\nSi chiama “Passio Chris
 ti” la mostra dell’artista Sidival Fila organizzata dall’Associazion
 e Rocca dei Papi per un’ecologia integrale e dalla Fondazione Sidival Fi
 la\, che verrà inaugurata a Montefiascone (VT) il 29 settembre\, alle 17\
 , e rimarrà aperta al pubblico fino al 6 novembre. Allestita nella sugges
 tiva basilica superiore di San Flaviano\, l’esposizione raccoglie l’in
 stallazione di una Via Crucis interpretata utilizzando tessuti vecchi scar
 tati della seconda guerra mondiale\; un Crocifisso ligneo emergente da tel
 e rattoppate poste su di un telaio\; due Sindoni appartenenti alla serie g
 ià presentata lo scorso giugno nel Battistero di San Giovanni in Laterano
 \, a Roma\, in occasione della Giornata Mondiale della Famiglia\; e la Mad
 onna del Divino Amore creata nel 2012.\n\nLe opere sono il frutto del lavo
 ro nato dall’interesse di Sidival Fila verso tessuti antichi in disuso e
  materiali di scarto che acquistano nelle sue mani una vitalità nuova. La
  sua poetica tende a riscattare l’oggetto da una condizione di scarto da
 ndogli la possibilità di raccontarsi. Costante è la ricerca del contatto
  con la materia alla quale l’artista mira a restituire una voce. “La m
 ostra Passio Christi si inserisce nell’ambito delle iniziative realizzat
 e in questo anno dall’Associazione Rocca dei Papi per una ecologia integ
 rale\, nata nel 2019 ispirandosi alla lettera enciclica Laudato sì di Pap
 a Francesco – afferma il presidente monsignor Fabio Fabene\, arcivescovo
  di Montefiascone e segretario del Dicastero delle cause dei santi -. L’
 associazione è orgogliosa e onorata di ospitare Siddval Fila\, una delle 
 voci più autorevoli dell’arte contemporanea”.\n\nFrate minore frances
 cano\, Sidival Fila è nato in Brasile nel 1962\, ha preso i voti dal 1999
  e ha esercitato il suo ministero nel Policlinico Gemelli e al Carcere di 
 Rebibbia. Ha interrotto la sua attività artistica con l’ingresso nell
 ’Ordine per riprenderla dopo diciotto anni con un percorso di ricerca ch
 e lo porta a confrontarsi con materiali in disuso\, soprattutto tessuti co
 me lino\, cotone\, seta\, canapa\, broccati\, riscattando l’oggetto dall
 a sua condizione per restituirgli una voce\, renderlo “diversamente inut
 ile” e dandogli la possibilità di raccontare un vissuto fatto spesso di
  secoli di storia.\n\nL’arte di Sidival Fila è stata presentata in dive
 rse mostre personali\, sia in Francia che in Spagna\, nonché in diverse f
 iere internazionali\, tra le quali: Arco Madrid\, Fiac Parigi\, Art Basel 
 Miami\, ArtBO Bogotà. Le sue opere sono presenti in collezioni private e 
 fondazioni in diversi paesi del mondo. Inoltre è presente nella collezion
 e permanente di arte moderna e contemporanea dei Musei Vaticani. \n\nLa mo
 stra “Passio Christi”\, a ingresso libero\, sarà visitabile tutti i g
 iorni. \n\nL’esposizione ha il sostegno della Regione Lazio\, della Prov
 incia di Viterbo e del Comune di Montefiascone.\n
ATTACH;FMTTYPE=image/jpeg:https://lazioeventi.com/wp-content/uploads/2022/
 09/Locandina-mostra.jpg
CATEGORIES:Arte e Cultura nel Lazio
LOCATION:Montefiascone\, Comune\, Montefiascone\, Viterbo\, Lazio\, Italia
GEO:42.5378;12.0302
X-APPLE-STRUCTURED-LOCATION;VALUE=URI;X-ADDRESS=Comune\, Montefiascone\, Vi
 terbo\, Lazio\, Italia;X-APPLE-RADIUS=100;X-TITLE=Montefiascone:geo:42.537
 8,12.0302
END:VEVENT
BEGIN:VTIMEZONE
TZID:Europe/Rome
X-LIC-LOCATION:Europe/Rome
BEGIN:DAYLIGHT
DTSTART:20220327T030000
TZOFFSETFROM:+0100
TZOFFSETTO:+0200
TZNAME:CEST
END:DAYLIGHT
BEGIN:STANDARD
DTSTART:20221030T020000
TZOFFSETFROM:+0200
TZOFFSETTO:+0100
TZNAME:CET
END:STANDARD
END:VTIMEZONE
END:VCALENDAR