BEGIN:VCALENDAR
VERSION:2.0
PRODID:-//wp-events-plugin.com//7.2.3.1//EN
TZID:Europe/Rome
X-WR-TIMEZONE:Europe/Rome
BEGIN:VEVENT
UID:30365@lazioeventi.com
DTSTART;TZID=Europe/Rome:20230407T203000
DTEND;TZID=Europe/Rome:20230407T230000
DTSTAMP:20230302T143027Z
URL:https://lazioeventi.com/eventi/passione-di-cristo-a-pofi
SUMMARY:Passione di Cristo a Pofi - Pofi - 7 Aprile 23 20:30
DESCRIPTION:Torna la tradizionale processione del venerdì santo e la via c
 rucis figurata la domenica delle Palme\n\nPofi è pronta per trasformarsi 
 in una piccola Gerusalemme.\n\nIl primo appuntamento è per domenica 7 apr
 ile in piazza Vittorio Emanuele con inizio dalle ore 20.30 quando si svolg
 erà la Via Crucis figurata. \nVerranno rappresentate 9 stazioni sulle cla
 ssiche 14: Tradimento di Giuda – Ultima cena – Orto degli ulivi – Ge
 sù viene arrestato – Gesù è flagellato – Gesù è caricato della cr
 oce – Veronica asciuga il volto di Gesù – Gesù è spogliato delle su
 e vesti – Morte di Gesù.\nLe stazioni della Via Crucis verranno rappres
 entate con delle scenografie poste lungo tutto il perimetro della piazza a
 ccompagnate da musica e voci narranti.\n\nIl corteo storico\, composto da 
 200 attori ed alcuni cavalieri partirà dal palatenda e raggiungerà piazz
 a Santa Maria\, qui si accoderà alla processione del Cristo morto e si sn
 oderà lungo le caratteristiche vie del borgo medievale.\n\nA caratterizza
 re da sempre il Venerdì Santo di Pofi\, oltre la straordinaria bellezza d
 elle viuzze medievali e delle piazze\, dove si snoda il corteo storico in 
 costume\, soprattutto il grande sforzo organizzativo e la grande passione 
 con cui viene preparata nei minimi particolari.\n\nUna manifestazione che 
 ogni anno puntualmente viene messa in campo grazie ai componenti dell’as
 sociazione Venerdì Santo che\, con grande spirito di sacrificio ed abnega
 zione\, curano ogni aspetto della Passione Vivente e che richiama numerosi
  visitatori anche da fuori regione.
ATTACH;FMTTYPE=image/jpeg:https://lazioeventi.com/wp-content/uploads/2022/
 04/passione-cristo-pofi2.jpg
CATEGORIES:Sagre, Gastronomia e Tradizioni nel Lazio
LOCATION:Pofi\, Comune\, Pofi\, Frosinone\, Lazio\, Italia
GEO:41.5656;13.4153
X-APPLE-STRUCTURED-LOCATION;VALUE=URI;X-ADDRESS=Comune\, Pofi\, Frosinone\,
  Lazio\, Italia;X-APPLE-RADIUS=100;X-TITLE=Pofi:geo:41.5656,13.4153
END:VEVENT
BEGIN:VTIMEZONE
TZID:Europe/Rome
X-LIC-LOCATION:Europe/Rome
BEGIN:DAYLIGHT
DTSTART:20230326T030000
TZOFFSETFROM:+0100
TZOFFSETTO:+0200
TZNAME:CEST
END:DAYLIGHT
END:VTIMEZONE
END:VCALENDAR