BEGIN:VCALENDAR
VERSION:2.0
PRODID:-//wp-events-plugin.com//7.2.3.1//EN
TZID:Europe/Rome
X-WR-TIMEZONE:Europe/Rome
BEGIN:VEVENT
UID:34895@lazioeventi.com
DTSTART;TZID=Europe/Rome:20230401T200000
DTEND;TZID=Europe/Rome:20230401T230000
DTSTAMP:20230330T080144Z
URL:https://lazioeventi.com/eventi/passione-di-cristo
SUMMARY:Passione di Cristo - Strangolagalli - 1 Aprile 23 20:00
DESCRIPTION:Proloco Strangolagalli e la Parrocchia di San Michele Arcangelo
  organizzano\, per sabato 1 aprile alle 20:00\, la Passione Vivente 2023.\
 n\nQuesta edizione si svolgerà in via Circonvallazione e ripercorrerà il
  cammino di Gesù verso la croce\, ricostruendo i passi della sua sofferen
 za\, fino alla sua morte e quindi la sua resurrezione.
ATTACH;FMTTYPE=image/jpeg:https://lazioeventi.com/wp-content/uploads/2023/
 03/La-Passione-di-Cristo-post.jpg
CATEGORIES:Sagre, Gastronomia e Tradizioni nel Lazio
LOCATION:Strangolagalli\, Comune\, Strangolagalli\, Frosinone\, Lazio\, Ita
 lia
GEO:41.6012;13.4919
X-APPLE-STRUCTURED-LOCATION;VALUE=URI;X-ADDRESS=Comune\, Strangolagalli\, F
 rosinone\, Lazio\, Italia;X-APPLE-RADIUS=100;X-TITLE=Strangolagalli:geo:41
 .6012,13.4919
END:VEVENT
BEGIN:VTIMEZONE
TZID:Europe/Rome
X-LIC-LOCATION:Europe/Rome
BEGIN:DAYLIGHT
DTSTART:20230326T030000
TZOFFSETFROM:+0100
TZOFFSETTO:+0200
TZNAME:CEST
END:DAYLIGHT
END:VTIMEZONE
END:VCALENDAR