BEGIN:VCALENDAR
VERSION:2.0
PRODID:-//wp-events-plugin.com//7.2.3.1//EN
TZID:Europe/Rome
X-WR-TIMEZONE:Europe/Rome
BEGIN:VEVENT
UID:44296@lazioeventi.com
DTSTART;TZID=Europe/Rome:20260428T000000
DTEND;TZID=Europe/Rome:20260428T000000
DTSTAMP:20260424T084747Z
URL:https://lazioeventi.com/eventi/penna-doca-del-campidoglio
SUMMARY:Penna d’Oca del Campidoglio - Roma - 28 Aprile 26 00:00
DESCRIPTION:Dalla forza della gatta Rosi a quella del cane Ombra: al via la
  "Penna d’Oca del Campidoglio"\, il premio che sfida l'AI con il valore 
 dell'umanità.\n\n\n28 aprile 2026 Roma - Sala della Protomoteca in Campid
 oglio ore 15.30\n\n\nRosi ha conosciuto il buio.\n\nOmbra ha scelto di ess
 ere la luce.\n\nSembra un paradosso\, ma è la forza della vita quella che
  si incontrerà il 28 aprile 2026 a Roma per la terza edizione del  Premi
 o "La Penna d'Oca del Campidoglio"\, pronto a dare voce a tante storie spe
 ciali.\n\nRosi è la gatta vittima di una tortura atroce che oggi esce dal
 l'ombra del dolore per diventare il grido di chi chiede rispetto.\n\nOmbra
  è il cane di assistenza che sconfigge il buio donando ogni giorno i suoi
  occhi a Mariapaola.\n\nDue storie opposte\, un solo cuore.\n\nIl premio\,
  ideato dall’associazione Pet Carpet e dalla sua Presidente\, la giornal
 ista Federica Rinaudo\, nasce in Campidoglio proprio per celebrare le pers
 one e gli animali che fanno la differenza\, un po' come le oche "sentinell
 e" che\, secondo l'antica leggenda\, con il loro starnazzare salvarono Rom
 a dall’invasione dei Galli nel 390 a.C.\n\nUna giornata promossa per sot
 tolineare il rispetto per la vita che soprattutto oggi\, in un’era domin
 ata dagli algoritmi dell'intelligenza artificiale\, ha necessità di risco
 prire la bellezza dei sentimenti genuini e il valore delle azioni verso il
  prossimo\, a 2 e a 4 zampe.\n\nL’ evento\, fortemente voluto da Svetlan
 a Celli\, Presidente dell’Assemblea Capitolina\, trasforma quindi il mit
 o in una missione: riconoscere lo spessore di chi\, con piccoli e grandi g
 esti\, si fa sentinella della natura e delle sue creature per dedicare una
  parte del proprio tempo a salvaguardare il pianeta.\n\nNumerosi i volti n
 oti e le storie al centro di questo riconoscimento\, reso possibile grazie
  alla collaborazione di realtà leader nel settore pet come “Giulius\, l
 ’amico degli animali”\, ma anche di eccellenze come Marlen\, specializ
 zata nella produzione di penne d’autore\, e Pelino\, simbolo storico dei
  confetti\, che sarà assegnato a tutti quelli che nella quotidianità si 
 impegnano a sensibilizzare l’opinione pubblica tramite gesti concreti ma
  anche articoli\, servizi televisivi\, social\, laboratori\, campagne educ
 ative\, iniziative solidali.\n\nLa cerimonia\, con inizio previsto alle or
 e 15\,30\, sarà condotta dall’attore Enzo Salvi\, grande amante degli a
 nimali\, e dalla stessa Rinaudo.\n\nNel corso dell’appuntamento sarà la
 nciato anche il regolamento per la partecipazione gratuita alla nuova ediz
 ione del Pet Carpet Film Festival\, l’unica kermesse cinematografica int
 ernazionale dedicata al mondo animale e all’ambiente\, che da  anni riu
 nisce registi\, videomaker\, associazioni\, scuole.\n\nPer partecipare in 
 Campidoglio l’ingresso è gratuito previa prenotazione a petcarpetfestiv
 al@gmail.it .\n\nPer confermare il proprio posto indicare nominativi\, tel
 efono e numero di presenze.\n\nInfo www.petcarpetfestival.it
ATTACH;FMTTYPE=image/jpeg:https://lazioeventi.com/wp-content/uploads/2026/
 04/Screenshot-2026-04-24-alle-10.01.19.jpg
CATEGORIES:Arte e Cultura nel Lazio
LOCATION:Roma\, Via Leopardi\, Roma\, Roma\, Lazio\, Italia
GEO:41.8942;12.5017
X-APPLE-STRUCTURED-LOCATION;VALUE=URI;X-ADDRESS=Via Leopardi\, Roma\, Roma\
 , Lazio\, Italia;X-APPLE-RADIUS=100;X-TITLE=Roma:geo:41.8942,12.5017
END:VEVENT
BEGIN:VTIMEZONE
TZID:Europe/Rome
X-LIC-LOCATION:Europe/Rome
BEGIN:DAYLIGHT
DTSTART:20260329T030000
TZOFFSETFROM:+0100
TZOFFSETTO:+0200
TZNAME:CEST
END:DAYLIGHT
END:VTIMEZONE
END:VCALENDAR