BEGIN:VCALENDAR
VERSION:2.0
PRODID:-//wp-events-plugin.com//7.2.3.1//EN
TZID:Europe/Rome
X-WR-TIMEZONE:Europe/Rome
BEGIN:VEVENT
UID:40780@lazioeventi.com
DTSTART;TZID=Europe/Rome:20250221T103000
DTEND;TZID=Europe/Rome:20250308T190000
DTSTAMP:20250218T090933Z
URL:https://lazioeventi.com/eventi/percorsi-dalla-materia-alla-luce-dellar
 te
SUMMARY:Percorsi dalla materia alla luce dell'arte - Roma - 21 Febbraio 25 
 10:30
DESCRIPTION:Un dialogo tra gallerie e artisti nel cuore del Tridente romano
 \n\nVenerdì 21 febbraio 2025 – Ore 18:00\nDal 21 febbraio all’8 marzo
  2025\, il cuore artistico di Roma ospiterà un evento espositivo che segn
 a un’importante collaborazione tra due gallerie storiche del Tridente: C
 lode Art Gallery e monogramma. La mostra collettiva\, intitolata Percorsi 
 dalla materia alla luce dell'arte\, nasce con l’intento di creare un dia
 logo tra artisti\, spazi espositivi e linguaggi differenti\, sperimentando
  una modalità innovativa di condivisione delle opere.\n\n \n\nOgni artist
 a presenterà tre lavori\, due nella galleria di appartenenza e uno nell
 ’altra\, generando così un gioco di rimandi tra le due sedi espositive.
  Un vero e proprio scambio artistico che invita il pubblico a muoversi tra
  via dei Greci e via Margutta\, immergendosi in un percorso in cui differe
 nti stili e linguaggi artistici intrecciano in un’unica esperienza visiv
 a.\n\n \n\nGli artisti coinvolti sono Eleonora Chiodo\, C3R\, Daniela Forc
 ella e Juanni Wang per Clode Art Gallery\, mentre monogramma presenterà l
 e opere di Giuseppe Amorese\, Bruno Azzini\, Mariella Gentile e Marco Gino
 retti. A completare l’allestimento\, in entrambe le gallerie\, saranno e
 sposte le creazioni di gioielleria artistica di Serena Bonifazi\, che con 
 il suo progetto SB Unique Art Jewels porta avanti un’idea del gioiello c
 ome scultura\, unendo la preziosità della materia a una visione concettua
 le in continua trasformazione.\n\n \n\nIl progetto è nato dal desiderio d
 i superare i confini tradizionali dell’esposizione e di sperimentare nuo
 ve forme di interazione tra artisti\, collezionisti e spazi espositivi. Cl
 audia Guitto\, direttrice di Clode Art Gallery\, sottolinea come l’arte 
 possa diventare un ponte tra realtà diverse: "Ci sono occasioni in cui l
 ’arte si fa connessione\, creando nuove prospettive. Questa mostra nasce
  proprio dalla volontà di far dialogare due gallerie e i loro artisti\, s
 pingendoci oltre i limiti fisici dello spazio espositivo e costruendo una 
 rete di contaminazioni e scambi. Spero che questa esperienza possa essere 
 l’inizio di un progetto più ampio\, capace di coinvolgere sempre più r
 ealtà artistiche in un percorso condiviso."\n\n \n\nAnche Giovanni Morabi
 to\, direttore di monogramma\, vede in questa iniziativa un’occasione di
  crescita e confronto\, sia per i galleristi che per gli artisti coinvolti
 : "Da tempo pensavo alla possibilità di creare un evento che mettesse a c
 onfronto più spazi espositivi\, con uno scambio diretto tra gli artisti. 
 L’idea è nata grazie all’incontro con Serena Bonifazi e Claudia Guitt
 o\, ed è diventata un vero esperimento che ci permetterà di osservare le
  dinamiche tra collezionisti e opere in contesti diversi dal solito. Se qu
 esta prima edizione avrà il successo che speriamo\, potrebbe essere solo 
 l’inizio di un format da riproporre e ampliare nel tempo."\n\n \n\nL’i
 naugurazione\, che si terrà in contemporanea nelle due gallerie il 21 feb
 braio\, è stata pensata come un vero e proprio evento itinerante\, un inv
 ito per il pubblico a esplorare entrambi gli spazi espositivi\, immergendo
 si in un percorso artistico fluido e dinamico. Un’esperienza che promett
 e di offrire nuovi spunti di riflessione sul rapporto tra arte\, spazio e 
 collezionismo\, aprendo la strada a nuove sinergie nel panorama artistico 
 romano.\n \n\nClode Art Gallery\, diretta da Claudia "Clode" Guitto\, ub
 icata a via dei Greci\, si propone come uno spazio polifunzionale e innova
 tivo\, pensato per ridefinire l’eccellenza artistica italiana e internaz
 ionale. Nata dalla visione giovane e dinamica di “Clode”\, la galleria
  intende essere non solo un luogo espositivo\, ma anche un punto di incont
 ro per eventi culturali\, conversazioni d'arte e presentazioni di libri. S
 arà un vero e proprio hub culturale\, dove l’arte dialoga con il pubbli
 co in modi nuovi e interattivi.\n\nLa Clode Art Gallery ha stretto inoltre
  una prestigiosa partnership con l'Officina Canova\, consolidando il legam
 e tra storia e innovazione. In questo contesto\, la galleria ospiterà pro
 getti di digitalizzazione\, come il lancio di progetti NFT e stampa 3D\, u
 na collaborazione che unirà tradizione artistica e tecnologia avanzata\, 
 dando vita a nuove modalità di fruizione dell’arte.\n\nLa filosofia del
 la Clode Art Gallery è racchiusa nel suo slogan: "Art is timeless!" – l
 ’arte è senza tempo\, ed è destinata a essere fruita senza limiti\, ol
 tre ogni confine di forma\, tecnologia o spazio. Con un approccio aperto e
  inclusivo\, la galleria promuove un’interazione continua tra tradizione
  e modernità\, facendo della sua sede storica in via dei Greci un punto d
 i riferimento per l’arte moderna e contemporanea.\n\n \n\nmonogramma si 
 trova in via Margutta\, la famosa via degli artisti a pochi passi da piazz
 a di Spagna e da piazza del Popolo in Roma. Da sempre la galleria sostiene
  il lavoro di artisti italiani presentandoli al pubblico internazionale. N
 ello stesso tempo mantiene un fertile dialogo con le istituzioni museali n
 azionali e internazionali\, favorendo anche i rapporti tra gallerie\, crit
 ici\, curatori e collezionisti. Nel novembre del 1976\, a Reggio Calabria\
 , nasce uno spazio per l’Arte. Cresce velocemente e diviene una fucina d
 i iniziative\, idee e proposte. Nel novembre del 1996\, questa esperienza 
 ventennale\, maturata tra realtà e illusione\, si trasporta a Roma avvian
 do con “Exempla” il primo incontro.\n\nmonogramma\, ormai da diversi a
 nni\, punta al mercato internazionale\, presentando i suoi artisti presso 
 le fiere e le gallerie di: Milano\, New York\, Singapore\, Seoul\, Hong Ko
 ng\, Stoccolma\, Tokyo e Londra. Anche gli Istituti di cultura italiani al
 l’estero: Londra\, Malta e Miami\, hanno ospitato mostre curate da monog
 ramma che ha sempre voluto internazionalizzare i propri artisti. monogramm
 a\, proprietaria del marchio “Via Margutta”\, vuole anche far ritornar
 e alla ribalta la storica via dell’arte\, attraverso alcune iniziative c
 ulturali su strada: Premio Margutta e ModArt\, all’interno delle quali m
 ostra l’arte contemporanea attraverso performance d’arte.\n\nOrari:\nd
 a martedì a sabato 10:30-13:30 / 14:30-19:00\ndomenica e lunedì su appun
 tamento
ATTACH;FMTTYPE=image/jpeg:https://lazioeventi.com/wp-content/uploads/2025/
 02/locandina-orizzontale.jpeg
CATEGORIES:Arte e Cultura nel Lazio
LOCATION:Roma\, Via Leopardi\, Roma\, Roma\, Lazio\, Italia
GEO:41.8942;12.5017
X-APPLE-STRUCTURED-LOCATION;VALUE=URI;X-ADDRESS=Via Leopardi\, Roma\, Roma\
 , Lazio\, Italia;X-APPLE-RADIUS=100;X-TITLE=Roma:geo:41.8942,12.5017
END:VEVENT
BEGIN:VTIMEZONE
TZID:Europe/Rome
X-LIC-LOCATION:Europe/Rome
BEGIN:STANDARD
DTSTART:20241027T020000
TZOFFSETFROM:+0200
TZOFFSETTO:+0100
TZNAME:CET
END:STANDARD
END:VTIMEZONE
END:VCALENDAR