BEGIN:VCALENDAR
VERSION:2.0
PRODID:-//wp-events-plugin.com//7.2.3.1//EN
TZID:Europe/Rome
X-WR-TIMEZONE:Europe/Rome
BEGIN:VEVENT
UID:35794@lazioeventi.com
DTSTART;TZID=Europe/Rome:20230610T170000
DTEND;TZID=Europe/Rome:20230610T200000
DTSTAMP:20230608T073845Z
URL:https://lazioeventi.com/eventi/pericolo-dei-pesticidi-negli-alimenti-e
 -biocidi-in-citta
SUMMARY:Pericolo dei pesticidi negli alimenti e biocidi in città - Rieti -
  10 Giugno 23 17:00
DESCRIPTION:Weekend di formazione per i consumatori reatini con il massimo 
 esperto italiano nell’ambito dei pesticidi e biocidi\, ovvero sostanze c
 he uccidono organismi nocivi\, Pietro Massimiliano Bianco il famoso tecnol
 ogo ricercatore dell’ISPRA (Istituto Superiore per la Protezione e e Ric
 erca ambientale)\, curatore di tutte le linee guida per la disinfestazione
  dei comuni dalle zanzare\, nonché Responsabile del Comitato Scientifico 
 dell’European Consumers APS e tra i primi 22 Caschi Verdi per l’UNESCO
 .\n\nPromosso infatti dal Presidente dell’associazione Dott. Marco Tiber
 ti agrotecnico laureato che da anni si occupa di tutela dell’ambiente e 
 dei consumatori\, il seminario gratuito “Pericolo dei pesticidi negli al
 imenti e biocidi i città” che si svolgerà sabato 10 giugno dalle ore 1
 7 alle 20 presso la sala conferenza dell’Hotel Serena\, vuole dare una p
 anoramica precisa e dettagliata sul mondo dei pesticidi che purtroppo inge
 riamo quotidianamente e sui danni dell’abuso di disinfestazioni contro l
 e zanzare fatte dalla amministrazioni comunali.\n\n“ Mi occupo da molti 
 anni di tutela dei diritti dei consumatori – dichiara Marco Tiberti\, Pr
 esidente di European Consumers APS – Ritengo sia fondamentale per le per
 sone conoscere le sostanze che ingeriamo e respiriamo\, stiamo parlando di
  avvelenamenti legalizzati\, per questo sono felice della presenza del nos
 tro Responsabile del Comitato Scientifico\, Pietro Bianco. Sarà un’oppo
 rtunità per i reatini\, ascoltare il massimo esperto in materia. Il semin
 ario diventa uno vademecum utile per riconoscere ed evitare veleni”.\n\n
 Ingresso gratuito fino ad esaurimento posti.
ATTACH;FMTTYPE=image/jpeg:https://lazioeventi.com/wp-content/uploads/2023/
 06/Pericolo-dei-pesticidi.jpg
CATEGORIES:Arte e Cultura nel Lazio
LOCATION:Rieti\, Comune di Rieti\, Rieti\, Rieti\, Lazio\, Italia
GEO:42.403;12.8609
X-APPLE-STRUCTURED-LOCATION;VALUE=URI;X-ADDRESS=Comune di Rieti\, Rieti\, R
 ieti\, Lazio\, Italia;X-APPLE-RADIUS=100;X-TITLE=Rieti:geo:42.403,12.8609
END:VEVENT
BEGIN:VTIMEZONE
TZID:Europe/Rome
X-LIC-LOCATION:Europe/Rome
BEGIN:DAYLIGHT
DTSTART:20230326T030000
TZOFFSETFROM:+0100
TZOFFSETTO:+0200
TZNAME:CEST
END:DAYLIGHT
END:VTIMEZONE
END:VCALENDAR