BEGIN:VCALENDAR
VERSION:2.0
PRODID:-//wp-events-plugin.com//7.2.3.1//EN
TZID:Europe/Rome
X-WR-TIMEZONE:Europe/Rome
BEGIN:VEVENT
UID:37787@lazioeventi.com
DTSTART;TZID=Europe/Rome;VALUE=DATE:20231129
DTEND;TZID=Europe/Rome;VALUE=DATE:20240115
DTSTAMP:20231114T073008Z
URL:https://lazioeventi.com/eventi/personale-di-angel-ortiz
SUMMARY:Personale di Angel Ortiz - Roma - 29 Novembre 23 00:00
DESCRIPTION:La mostra personale di Angel Ortiz (conosciuto come LA II)\, cu
 rata da Daria Borisova\, presenta una serie di nuovi dipinti dello street 
 artist newyorkese\, che incorporano una combinazione di colori vintage per
  evocare un senso di nostalgia.\nOgni opera cattura l'essenza della vita u
 rbana\, pulsante\, con ritmi vibranti e movimenti dinamici\, invitando gli
  spettatori a immergersi nell'accattivante sinfonia della visione dell’a
 rtista.\n\nNato nel 1967 da una famiglia portoricana e residente nei Baruc
 h Housing Projects del Lower East Side di New York\, Ortiz ha scoperto la 
 sua passione per l'espressione artistica in tenera età. A soli 10 anni in
 izia a lasciare le sue impronte colorate sui muri del quartiere\, segnando
  l'inizio di un percorso artistico straordinario. Adottando lo pseudonimo 
 di LA II\, che simboleggia "Piccolo angelo"\, la strada di Ortiz incrocia 
 quella di Keith Haring in giovane età\, essendo entrambi attratti dal fas
 cino e dall’energia grezza dei graffiti. La loro passione condivisa per 
 l’arte creò una profonda amicizia e una collaborazione creativa unica c
 he avrebbe plasmato le loro vite per sempre.
ATTACH;FMTTYPE=image/jpeg:https://lazioeventi.com/wp-content/uploads/2023/
 11/145125-unnamed.jpg
CATEGORIES:Arte e Cultura nel Lazio
LOCATION:Roma\, Via Leopardi\, Roma\, Roma\, Lazio\, Italia
GEO:41.8942;12.5017
X-APPLE-STRUCTURED-LOCATION;VALUE=URI;X-ADDRESS=Via Leopardi\, Roma\, Roma\
 , Lazio\, Italia;X-APPLE-RADIUS=100;X-TITLE=Roma:geo:41.8942,12.5017
END:VEVENT
BEGIN:VTIMEZONE
TZID:Europe/Rome
X-LIC-LOCATION:Europe/Rome
BEGIN:STANDARD
DTSTART:20231029T020000
TZOFFSETFROM:+0200
TZOFFSETTO:+0100
TZNAME:CET
END:STANDARD
END:VTIMEZONE
END:VCALENDAR