BEGIN:VCALENDAR
VERSION:2.0
PRODID:-//wp-events-plugin.com//7.2.3.1//EN
TZID:Europe/Rome
X-WR-TIMEZONE:Europe/Rome
BEGIN:VEVENT
UID:43188@lazioeventi.com
DTSTART;TZID=Europe/Rome:20251129T000000
DTEND;TZID=Europe/Rome:20260110T000000
DTSTAMP:20251124T160655Z
URL:https://lazioeventi.com/eventi/pet-carpet-un-riciclo-da-oscar-fai-la-t
 ua-parte-per-un-pieno-di-eco-solidarieta
SUMMARY:“Pet Carpet: Un riciclo da Oscar”. Fai la tua parte per un pien
 o di eco – solidarietà. - Roma - 29 Novembre 25 00:00
DESCRIPTION:Sostenibilità a 4 zampe. A Natale rimetti in circolo cucce\, c
 iotole\, giochi inutilizzati e aiuta i rifugi con la campagna “Pet Carpe
 t: Un riciclo da Oscar”. Fai la tua parte per un pieno di eco – solida
 rietà.\n\nDal 1 dicembre 2025 al 10 gennaio 2026\n\nQuante ciotole\, cucc
 e\, trasportini dimenticati ci sono in casa?\n\nSono perfetti\, ma non li 
 utilizziamo più perché magari i nostri cuccioli sono diventati adulti\, 
 oppure perché i nostri animali del cuore\, purtroppo\, sono volati sul Po
 nte dell’Arcobaleno.\n\nIn questo caso\, il dolore può trasformarsi in 
 un gesto d’amore.\n\nCi sono\, infatti\, cani e gatti che non hanno mai 
 ricevuto il calore di una famiglia e vivono nei rifugi circondati dalle cu
 re e dall’affetto dei volontari\, che hanno necessità di aiuto e sosteg
 no dalle piccole alle grandi cose.\n\nE allora anche per queste festività
  di Natale rimetti in circolo l’amore e partecipa alla campagna ecosolid
 ale pet - friendly:  “Pet Carpet: Un riciclo da Oscar”\, con il patro
 cinio dell’Arma dei Carabinieri\, della Fnovi e in collaborazione con la
  Polizia di Stato.\n\nL’iniziativa\, giunta alla sua IV edizione e attiv
 a dal 1 dicembre 2025 al 10 gennaio 2026\, sarà presentata il 29 novembre
  2025 presso il Circolo Canottieri Roma in Lungotevere Flaminio (ore 17.30
  ingresso gratuito) con uno spettacolo speciale\, ricco di momenti musical
 i\, proiezioni\, testimonianze.\n\nSul palco l'amatissimo conduttore Gianc
 arlo Magalli e la giornalista Federica Rinaudo\, fondatrice e presidente d
 ell'associazione Pet Carpet che organizza l'evento\, per la regia dell'att
 ore Vittorio Rombolà.  Riciclare e riusare gli accessori pet permette di
  trasformare il superfluo in essenziale\, ridurre gli sprechi e moltiplica
 re l’amore.\n\nLa campagna\, ideata dall’associazione Pet Carpet e dal
 la sua fondatrice la giornalista Federica Rinaudo\, si rende possibile gra
 zie alle aziende amiche leader del settore come Giulius l’amico degli an
 imali e la Monge\, ma è sostenuta anche da Automobile Club Roma\, pronto 
 a sottolineare il suo impegno nel ricordare\, non solo nelle festività na
 talizie ma sempre\, che nei veicoli bambini e animali vanno sempre traspor
 tati in sicurezza nel rispetto del Codice della Strada.\n\nCosa donare? Tr
 asportini\, cucce\, ciotole\, giochi in buone condizioni e chi vuole può 
 acquistare anche cibo.\n\nPer i punti raccolta ci si può recare presso: I
 l Circolo Canottieri Roma\, gli store Giulius\, mentre l’Automobile Club
  Roma mette a disposizione alcune sue delegazioni.\n\nPer info www.petcarp
 tefestival.it o petcarpetfestival@gmail.com.\n\nNon abbandonare gli oggett
 i\, dagli una nuova vita e\, soprattutto\, ricorda l’importanza dell’a
 dozione responsabile perché un animale è per sempre.
ATTACH;FMTTYPE=image/jpeg:https://lazioeventi.com/wp-content/uploads/2025/
 11/instagram-riciclo-2025.jpg
CATEGORIES:Varie
LOCATION:Roma\, Via Leopardi\, Roma\, Roma\, Lazio\, Italia
GEO:41.8942;12.5017
X-APPLE-STRUCTURED-LOCATION;VALUE=URI;X-ADDRESS=Via Leopardi\, Roma\, Roma\
 , Lazio\, Italia;X-APPLE-RADIUS=100;X-TITLE=Roma:geo:41.8942,12.5017
END:VEVENT
BEGIN:VTIMEZONE
TZID:Europe/Rome
X-LIC-LOCATION:Europe/Rome
BEGIN:STANDARD
DTSTART:20251026T020000
TZOFFSETFROM:+0200
TZOFFSETTO:+0100
TZNAME:CET
END:STANDARD
END:VTIMEZONE
END:VCALENDAR