BEGIN:VCALENDAR
VERSION:2.0
PRODID:-//wp-events-plugin.com//7.2.3.1//EN
TZID:Europe/Rome
X-WR-TIMEZONE:Europe/Rome
BEGIN:VEVENT
UID:38018@lazioeventi.com
DTSTART;TZID=Europe/Rome:20231206T180000
DTEND;TZID=Europe/Rome:20231206T180000
DTSTAMP:20231204T212606Z
URL:https://lazioeventi.com/eventi/pet-carpet-un-riciclo-da-oscar
SUMMARY:Pet Carpet: Un Riciclo da Oscar - Roma - 6 Dicembre 23 18:00
DESCRIPTION:Arriva "Pet Carpet: Un Riciclo da Oscar"\, la campagna natalizi
 a green "riusa &amp\; ricicla" accessori pet da donare ai rifugi.\n\nDal 6
  dicembre 2023 al 6 gennaio 2024 a Roma\n\n“Io non li abbandono. Tu gli 
 ridai vita”. E’ lo slogan della nuova campagna green solidale “Pet C
 arpet: Un riciclo da Oscar”\, giunta alla sua seconda edizione\, che sar
 à presentata il 6 dicembre con un evento/spettacolo presso lo storico Cir
 colo Canottieri Roma\, in via Lungotevere Flaminio\, con il patrocinio di 
 Fnovi e Anmvi. L’iniziativa\, promossa dalla Associazione Pet Carpet e i
 deata dalla giornalista Federica Rinaudo che ne cura la direzione artistic
 a\, si pone lo scopo di restituire nuova vita agli accessori pet non più 
 utilizzati che saranno rimessi in circolo\, grazie all’amore di tutti co
 loro che condividono la propria quotidianità con un amico a quattrozampe.
  La campagna natalizia\, dedicata al valore della sostenibilità ambiental
 e tramite il concetto di riuso &amp\; del riciclo\, sarà attiva a Roma da
 l 6 dicembre 2023 al 6 gennaio 2024 con una serie di punti raccolta attiva
 ti presso lo stesso Circolo e i Pet Store Giulius\, supportati da Automobi
 le Club Roma e Romana Diesel con Rd Mobility\, insieme per ribadire all’
 opinione pubblica l’importanza di rispettare l’ambiente e tutte le sue
  creature cercando di perseguire il più possibile uno stile di vita sano 
 con poche semplici attenzioni anche quando si parla di pet\, tra cui: effe
 ttuare una corretta raccolta differenziata ed utilizzare apposite bustine 
 biodegradabili\,  osservare le norme di sicurezza stradale quando si viag
 gia con i propri animali ed evitare distrazioni e velocità al volante per
  evitare collisioni con cani\, gatti\, ricci\, volpi\, cinghiali e altri e
 sseri viventi della fauna selvatica.\n\n“Pet Carpet: Un riciclo da Oscar
 ” consentirà ai possessori di cani e gatti di donare cucce\, giochi\, c
 ollari\, ciotole\, pettorine\, cuscini\, copertine\, per una mission solid
 ale resa possibile grazie ad un efficace lavoro di squadra: gli accessori 
 saranno\, infatti\, raccolti dai volontari della associazione City Angels\
 , la realtà operativa di strada fondata nel 1994 da Mario Furlan\, e cons
 egnati ai rifugi o ai senza fissa dimora con i cani.\n\nTestimonial della 
 campagna il ballerino e coreografo Garrison Rochelle\, che sarà presenta 
 al Circolo Canottieri Roma nella serata inaugurale per raccontare le emozi
 oni trasmesse da tanti dolci musetti ai quali molti umani hanno salvato la
  vita\, le cui storie sono state raccolte dal Pet Carpet Film Festival\, l
 a kermesse cinematografica internazionale che da anni consente alle associ
 azioni sparse in tutta Italia e all’estero di avere una “voce” per u
 nire mani e zampe. \n\nInfo www.petcarpetfestival.it
ATTACH;FMTTYPE=image/jpeg:https://lazioeventi.com/wp-content/uploads/2023/
 12/locandinaok.jpg
CATEGORIES:Varie
LOCATION:Roma\, Via Leopardi\, Roma\, Roma\, Lazio\, Italia
GEO:41.8942;12.5017
X-APPLE-STRUCTURED-LOCATION;VALUE=URI;X-ADDRESS=Via Leopardi\, Roma\, Roma\
 , Lazio\, Italia;X-APPLE-RADIUS=100;X-TITLE=Roma:geo:41.8942,12.5017
END:VEVENT
BEGIN:VTIMEZONE
TZID:Europe/Rome
X-LIC-LOCATION:Europe/Rome
BEGIN:STANDARD
DTSTART:20231029T020000
TZOFFSETFROM:+0200
TZOFFSETTO:+0100
TZNAME:CET
END:STANDARD
END:VTIMEZONE
END:VCALENDAR