BEGIN:VCALENDAR
VERSION:2.0
PRODID:-//wp-events-plugin.com//7.2.3.1//EN
TZID:Europe/Rome
X-WR-TIMEZONE:Europe/Rome
BEGIN:VEVENT
UID:27908@lazioeventi.com
DTSTART:20201008T110000Z
DTEND:20201011T223000Z
DTSTAMP:20201007T212800Z
URL:https://lazioeventi.com/eventi/petrocelli-street-food
SUMMARY:Petrocelli Street Food - Roma - 8 Ottobre 20 12:00
DESCRIPTION: Continua alla grande il tour 2020 targato Typical Truck Street
  Food con un’altra fantastica ed indimenticabile tappa romana. Dal Primo
  al 4 di Ottobre sarà Monteverde capitale d’Italia della cucina e del d
 ivertimento on the road. Lo Street Food
ATTACH;FMTTYPE=image/jpeg:https://lazioeventi.com/wp-content/uploads/2020/
 10/petrocelli.jpg
CATEGORIES:Sagre, Gastronomia e Tradizioni nel Lazio
LOCATION:Roma\, Via Leopardi\, Roma\, Roma\, Lazio\, Italia
GEO:41.8942;12.5017
X-APPLE-STRUCTURED-LOCATION;VALUE=URI;X-ADDRESS=Via Leopardi\, Roma\, Roma\
 , Lazio\, Italia;X-APPLE-RADIUS=100;X-TITLE=Roma:geo:41.8942,12.5017
END:VEVENT
END:VCALENDAR