BEGIN:VCALENDAR
VERSION:2.0
PRODID:-//wp-events-plugin.com//7.2.3.1//EN
TZID:Europe/Rome
X-WR-TIMEZONE:Europe/Rome
BEGIN:VEVENT
UID:44269@lazioeventi.com
DTSTART;TZID=Europe/Rome;VALUE=DATE:20260422
DTEND;TZID=Europe/Rome;VALUE=DATE:20260424
DTSTAMP:20260420T094621Z
URL:https://lazioeventi.com/eventi/phenomenal-women-al-teatro-golden
SUMMARY:“Phenomenal Women” al Teatro Golden - Roma - 22 Aprile 26 00:00
DESCRIPTION:Da Sibilla Aleramo ad Alda Merini.\n\n\nSul palco le donne che 
 hanno sfidato il mondo con i loro versi.\n\n\nAl Teatro Golden debutta “
 Phenomenal Women”\, con Grazia Di Michele e Alessandra Fallucchi.\n\n\n2
 2 e 23 aprile 2026 Teatro Golden\, Roma\n\n\nDalle righe chiuse tra le pag
 ine di un libro al respiro vibrante del palcoscenico\, il passo è breve s
 e a guidarlo è il talento di Grazia Di Michele e Alessandra Fallucchi con
  lo spettacolo “Phenomenal Women”\, dedicato alle donne che hanno usat
 o la parola come arma di liberazione.\n\n\nDa  Sibilla Aleramo ad Alda Me
 rini\,  artiste speciali che hanno trasformato i versi in una rivoluzione
  e la poesia in una nuova percezione del femminile.\n\n\nA loro\, e a tant
 e altre scrittrici e poetesse\, sarà dedicato questo nuovo spettacolo in 
 scena al Teatro Golden il 22 e 23 aprile 2026.\n\n\nUna rappresentazione s
 traordinaria che celebra il coraggio e il talento di figure simbolo\, che 
 hanno saputo  uscire fuori dagli schemi.\n\n\n “Phenomenal Women” è
  il varco che permette a queste storie di uscire dalle biblioteche e diven
 tare realtà in un teatro\, attraverso  un viaggio dove la parola scritta
  si fonde nella melodia di Grazia Di Michele e nell'interpretazione di Ale
 ssandra Fallucchi.\n\n\nÈ l’occasione per scoprire l’essere umano die
 tro il genio: un’avventura che unisce metrica e musica per raccontare l'
 audacia di chi ha saputo essere 'oltre'.\n\n\nIl pubblico sarà accompagna
 to nel cuore pulsante delle opere di icone come: Patrizia Cavalli\, Patriz
 ia Valduga\, Maya Angelou  e tante altre grandi artiste\, diverse per epo
 ca e stile\,\n\n\nma unite dalla medesima forza\, ovvero quella di aver ri
 scritto il concetto stesso di "Donna"\, trasformando il dolore\, il deside
 rio\,  l’attenzione al mondo e alle piccole cose\, in capolavori univer
 sali.\n\n\nLa cantautrice Grazia Di Michele e il chitarrista  Fabiano Lel
 li\, che  vestiranno di musica  le opere\, e l’attrice Alessandra Fall
 ucchi\, hanno realizzato una drammaturgia che ci racconta storie di poetes
 se speciali\, non solo per il loro talento ma anche per l'audacia di rompe
 re con le convenzioni e con le regole.\n\n\nLe autrici propongono\, con la
  regia di Emanuela Caruso\, un viaggio leggero\, profondo\, a volte ironic
 o\, nella vita e nelle opere di Donne Fenomenali.\n\n\nTeatro Golden\, via
  Taranto 36. Info: 06 70493826
ATTACH;FMTTYPE=image/jpeg:https://lazioeventi.com/wp-content/uploads/2026/
 04/PHOTO-2026-04-16-12-41-29-4.jpg
CATEGORIES:Arte e Cultura nel Lazio
LOCATION:Roma\, Via Leopardi\, Roma\, Roma\, Lazio\, Italia
GEO:41.8942;12.5017
X-APPLE-STRUCTURED-LOCATION;VALUE=URI;X-ADDRESS=Via Leopardi\, Roma\, Roma\
 , Lazio\, Italia;X-APPLE-RADIUS=100;X-TITLE=Roma:geo:41.8942,12.5017
END:VEVENT
BEGIN:VTIMEZONE
TZID:Europe/Rome
X-LIC-LOCATION:Europe/Rome
BEGIN:DAYLIGHT
DTSTART:20260329T030000
TZOFFSETFROM:+0100
TZOFFSETTO:+0200
TZNAME:CEST
END:DAYLIGHT
END:VTIMEZONE
END:VCALENDAR